FILENAME: O4810728.SES.1116728.tif
QUADRANGLE_NAME: HEWITT LAKE
QUADRANT: SE
WEST_LONGITUDE: -107 33 45.00000
EAST_LONGITUDE: -107 30 0.00000
NORTH_LATITUDE: 48 33 45.00000
SOUTH_LATITUDE: 48 30 0.00000
PRODUCTION_DATE: 2000 11 10
RASTER_ORDER: LEFT_RIGHT/TOP_BOTTOM
BAND_ORGANIZATION: SINGLE FILE
BAND_CONTENT: BLACK&WHITE
BAND_CONTENT: UNDEFINED
BAND_CONTENT: UNDEFINED
BITS_PER_PIXEL: 8
SAMPLES_AND_LINES: 5495 7704
HORIZONTAL_DATUM: NAD83
HORIZONTAL_COORDINATE_SYSTEM: UTM
COORDINATE_ZONE: 13
HORIZONTAL_UNITS: METERS
HORIZONTAL_RESOLUTION: 1.00000
SECONDARY_HORIZONTAL_DATUM: NAD27
XY_ORIGIN: 310361.00000 5382295.00000
SECONDARY_XY_ORIGIN: 310402.95400 5382074.60200
NATION: US
NATION: "SCIENCE
STATE: MT
NW_QUAD_CORNER_XY: 310943.96000 5381993.23000
NE_QUAD_CORNER_XY: 315554.71800 5381840.42300
SE_QUAD_CORNERY_XY: 315327.45800 5374893.97000
SW_QUAD_CORNER_XY: 310711.01300 5375046.81800
SECONDARY_NW_QUAD_XY: 310937.94100 5381774.35100
SECONDARY_NE_QUAD_XY: 315548.84500 5381621.53900
SECONDARY_SE_QUAD_XY: 315321.58600 5374675.09400
SECONDARY_SW_QUAD_XY: 310704.99400 5374827.94700
RMSE_XY: 1.40000
IMAGE_SOURCE: BLACK AND WHITE FILM
SOURCE_IMAGE_ID: NAPP 9127 212
SOURCE_IMAGE_DATE: 1996 07 15
SOURCE_DEM_DATE: 1967 00 00
AGENCY: WESTERN MAPPING CENTER (WMC)
PRODUCER: UNDEFINED
PRODUCTION_SYSTEM: GIS/MAGIC
COMPRESSION: UNDEFINED
STANDARD_VERSION: 1996 12
METADATA_DATE: 2000 11 15
DATA_FILE_SIZE: 42338975
BYTE_COUNT: 5495
