FILENAME: O4810728.SWS.1116729.tif
QUADRANGLE_NAME: HEWITT LAKE
QUADRANT: SW
WEST_LONGITUDE: -107 37 30.00000
EAST_LONGITUDE: -107 33 45.00000
NORTH_LATITUDE: 48 33 45.00000
SOUTH_LATITUDE: 48 30 0.00000
PRODUCTION_DATE: 2000 11 10
RASTER_ORDER: LEFT_RIGHT/TOP_BOTTOM
BAND_ORGANIZATION: SINGLE FILE
BAND_CONTENT: BLACK&WHITE
BAND_CONTENT: UNDEFINED
BAND_CONTENT: UNDEFINED
BITS_PER_PIXEL: 8
SAMPLES_AND_LINES: 5500 7708
HORIZONTAL_DATUM: NAD83
HORIZONTAL_COORDINATE_SYSTEM: UTM
COORDINATE_ZONE: 13
HORIZONTAL_UNITS: METERS
HORIZONTAL_RESOLUTION: 1.00000
SECONDARY_HORIZONTAL_DATUM: NAD27
XY_ORIGIN: 305745.00000 5382452.00000
SECONDARY_XY_ORIGIN: 305787.06800 5382231.51500
NATION: US
NATION: "SCIENCE
STATE: MT
NW_QUAD_CORNER_XY: 306333.23100 5382149.81400
NE_QUAD_CORNER_XY: 310943.96000 5381993.23000
SE_QUAD_CORNERY_XY: 310711.01300 5375046.81800
SW_QUAD_CORNER_XY: 306094.59500 5375203.44500
SECONDARY_NW_QUAD_XY: 306327.06500 5381930.94000
SECONDARY_NE_QUAD_XY: 310937.94100 5381774.35100
SECONDARY_SE_QUAD_XY: 310704.99400 5374827.94700
SECONDARY_SW_QUAD_XY: 306088.42900 5374984.57800
RMSE_XY: 1.30000
IMAGE_SOURCE: BLACK AND WHITE FILM
SOURCE_IMAGE_ID: NAPP 9125 027
SOURCE_IMAGE_DATE: 1996 06 20
SOURCE_DEM_DATE: 1967 00 00
AGENCY: WESTERN MAPPING CENTER (WMC)
PRODUCER: UNDEFINED
PRODUCTION_SYSTEM: GIS/MAGIC
COMPRESSION: UNDEFINED
STANDARD_VERSION: 1996 12
METADATA_DATE: 2000 11 15
DATA_FILE_SIZE: 42399500
BYTE_COUNT: 5500
