FILENAME: O4810726.NES.1112706.tif
QUADRANGLE_NAME: FANNY HILL
QUADRANT: NE
WEST_LONGITUDE: -107 48 45.00000
EAST_LONGITUDE: -107 45 0.00000
NORTH_LATITUDE: 48 37 30.00000
SOUTH_LATITUDE: 48 33 45.00000
PRODUCTION_DATE: 2000 11 7
RASTER_ORDER: LEFT_RIGHT/TOP_BOTTOM
BAND_ORGANIZATION: SINGLE FILE
BAND_CONTENT: BLACK&WHITE
BAND_CONTENT: UNDEFINED
BAND_CONTENT: UNDEFINED
BITS_PER_PIXEL: 8
SAMPLES_AND_LINES: 5513 7719
HORIZONTAL_DATUM: NAD83
HORIZONTAL_COORDINATE_SYSTEM: UTM
COORDINATE_ZONE: 13
HORIZONTAL_UNITS: METERS
HORIZONTAL_RESOLUTION: 1.00000
SECONDARY_HORIZONTAL_DATUM: NAD27
XY_ORIGIN: 292151.00000 5389891.00000
SECONDARY_XY_ORIGIN: 292193.19700 5389670.06700
NATION: US
NATION: "SCIENCE
STATE: MT
NW_QUAD_CORNER_XY: 292757.16700 5389588.52700
NE_QUAD_CORNER_XY: 297362.11400 5389420.65600
SE_QUAD_CORNERY_XY: 297111.85800 5382474.31500
SW_QUAD_CORNER_XY: 292501.21600 5382642.23300
SECONDARY_NW_QUAD_XY: 292750.56000 5389369.66200
SECONDARY_NE_QUAD_XY: 297355.65400 5389201.78500
SECONDARY_SE_QUAD_XY: 297105.39800 5382255.45100
SECONDARY_SW_QUAD_XY: 292494.60900 5382423.37400
RMSE_XY: 2.00000
IMAGE_SOURCE: BLACK AND WHITE FILM
SOURCE_IMAGE_ID: NAPP 9148 094
SOURCE_IMAGE_DATE: 1996 08 27
SOURCE_DEM_DATE: 1975 00 00
AGENCY: WESTERN MAPPING CENTER (WMC)
PRODUCER: UNDEFINED
PRODUCTION_SYSTEM: GIS/MAGIC
COMPRESSION: UNDEFINED
STANDARD_VERSION: 1996 12
METADATA_DATE: 2000 11 15
DATA_FILE_SIZE: 42560360
BYTE_COUNT: 5513
