FILENAME: O4810723.NES.1116638.tif
QUADRANGLE_NAME: GENEVIEVE
QUADRANT: NE
WEST_LONGITUDE: -107 11 15.00000
EAST_LONGITUDE: -107 7 30.00000
NORTH_LATITUDE: 48 45 0.00000
SOUTH_LATITUDE: 48 41 15.00000
PRODUCTION_DATE: 2000 11 9
RASTER_ORDER: LEFT_RIGHT/TOP_BOTTOM
BAND_ORGANIZATION: SINGLE FILE
BAND_CONTENT: BLACK&WHITE
BAND_CONTENT: UNDEFINED
BAND_CONTENT: UNDEFINED
BITS_PER_PIXEL: 8
SAMPLES_AND_LINES: 5442 7683
HORIZONTAL_DATUM: NAD83
HORIZONTAL_COORDINATE_SYSTEM: UTM
COORDINATE_ZONE: 13
HORIZONTAL_UNITS: METERS
HORIZONTAL_RESOLUTION: 1.00000
SECONDARY_HORIZONTAL_DATUM: NAD27
XY_ORIGIN: 338660.00000 5402277.00000
SECONDARY_XY_ORIGIN: 338700.58900 5402055.41300
NATION: US
NATION: "SCIENCE
STATE: MT
NW_QUAD_CORNER_XY: 339206.54200 5401973.35100
NE_QUAD_CORNER_XY: 343800.36400 5401843.31000
SE_QUAD_CORNERY_XY: 343606.65800 5394896.43600
SW_QUAD_CORNER_XY: 339007.13400 5395026.51400
SECONDARY_NW_QUAD_XY: 339201.40300 5401754.42700
SECONDARY_NE_QUAD_XY: 343795.37200 5401624.38100
SECONDARY_SE_QUAD_XY: 343601.66600 5394677.51300
SECONDARY_SW_QUAD_XY: 339001.99600 5394807.59500
RMSE_XY: 1.30000
IMAGE_SOURCE: BLACK AND WHITE FILM
SOURCE_IMAGE_ID: NAPP 9101 186
SOURCE_IMAGE_DATE: 1996 07 15
SOURCE_IMAGE_ID: NAPP 9101 280
SOURCE_IMAGE_DATE: 1996 07 15
SOURCE_IMAGE_ID: NAPP 9101 185
SOURCE_IMAGE_DATE: 1996 07 15
SOURCE_DEM_DATE: 1974 00 00
AGENCY: WESTERN MAPPING CENTER (WMC)
PRODUCER: UNDEFINED
PRODUCTION_SYSTEM: GIS/MAGIC
COMPRESSION: UNDEFINED
STANDARD_VERSION: 1996 12
METADATA_DATE: 2000 11 30
DATA_FILE_SIZE: 41816328
BYTE_COUNT: 5442
