FILENAME: O4810722.NES.1116606.tif
QUADRANGLE_NAME: PORCUPINE COULEE
QUADRANT: NE
WEST_LONGITUDE: -107 18 45.00000
EAST_LONGITUDE: -107 15 0.00000
NORTH_LATITUDE: 48 45 0.00000
SOUTH_LATITUDE: 48 41 15.00000
PRODUCTION_DATE: 2000 11 7
RASTER_ORDER: LEFT_RIGHT/TOP_BOTTOM
BAND_ORGANIZATION: SINGLE FILE
BAND_CONTENT: BLACK&WHITE
BAND_CONTENT: UNDEFINED
BAND_CONTENT: UNDEFINED
BITS_PER_PIXEL: 8
SAMPLES_AND_LINES: 5454 7690
HORIZONTAL_DATUM: NAD83
HORIZONTAL_COORDINATE_SYSTEM: UTM
COORDINATE_ZONE: 13
HORIZONTAL_UNITS: METERS
HORIZONTAL_RESOLUTION: 1.00000
SECONDARY_HORIZONTAL_DATUM: NAD27
XY_ORIGIN: 329460.00000 5402548.00000
SECONDARY_XY_ORIGIN: 329500.76000 5402326.64400
NATION: US
NATION: "SCIENCE
STATE: MT
NW_QUAD_CORNER_XY: 330018.97400 5402244.75100
NE_QUAD_CORNER_XY: 334612.74500 5402107.16500
SE_QUAD_CORNERY_XY: 334407.63600 5395160.36600
SW_QUAD_CORNER_XY: 329808.16200 5395297.99100
SECONDARY_NW_QUAD_XY: 330013.54200 5402025.83600
SECONDARY_NE_QUAD_XY: 334607.46000 5401888.24500
SECONDARY_SE_QUAD_XY: 334402.35000 5394941.45100
SECONDARY_SW_QUAD_XY: 329802.73000 5395079.08100
RMSE_XY: 1.10000
IMAGE_SOURCE: BLACK AND WHITE FILM
SOURCE_IMAGE_ID: NAPP 9127 010
SOURCE_IMAGE_DATE: 1996 07 15
SOURCE_IMAGE_ID: NAPP 9127 011
SOURCE_IMAGE_DATE: 1996 07 15
SOURCE_DEM_DATE: 1974 00 00
AGENCY: WESTERN MAPPING CENTER (WMC)
PRODUCER: UNDEFINED
PRODUCTION_SYSTEM: GIS/MAGIC
COMPRESSION: UNDEFINED
STANDARD_VERSION: 1996 12
METADATA_DATE: 2000 11 15
DATA_FILE_SIZE: 41946714
BYTE_COUNT: 5454
