FILENAME: O4810720.SWS.1116725.tif
QUADRANGLE_NAME: TATTNALL
QUADRANT: SW
WEST_LONGITUDE: -107 37 30.00000
EAST_LONGITUDE: -107 33 45.00000
NORTH_LATITUDE: 48 41 15.00000
SOUTH_LATITUDE: 48 37 30.00000
PRODUCTION_DATE: 2000 11 8
RASTER_ORDER: LEFT_RIGHT/TOP_BOTTOM
BAND_ORGANIZATION: SINGLE FILE
BAND_CONTENT: BLACK&WHITE
BAND_CONTENT: UNDEFINED
BAND_CONTENT: UNDEFINED
BITS_PER_PIXEL: 8
SAMPLES_AND_LINES: 5489 7708
HORIZONTAL_DATUM: NAD83
HORIZONTAL_COORDINATE_SYSTEM: UTM
COORDINATE_ZONE: 13
HORIZONTAL_UNITS: METERS
HORIZONTAL_RESOLUTION: 1.00000
SECONDARY_HORIZONTAL_DATUM: NAD27
XY_ORIGIN: 306223.00000 5396345.00000
SECONDARY_XY_ORIGIN: 306264.60300 5396124.02400
NATION: US
NATION: "SCIENCE
STATE: MT
NW_QUAD_CORNER_XY: 306811.19800 5396042.73200
NE_QUAD_CORNER_XY: 311410.53400 5395886.23500
SE_QUAD_CORNERY_XY: 311177.13400 5388939.70200
SW_QUAD_CORNER_XY: 306572.09800 5389096.24300
SECONDARY_NW_QUAD_XY: 306805.03100 5395823.84600
SECONDARY_NE_QUAD_XY: 311404.51500 5395667.34300
SECONDARY_SE_QUAD_XY: 311171.11500 5388720.81600
SECONDARY_SW_QUAD_XY: 306565.93200 5388877.36200
RMSE_XY: 1.20000
IMAGE_SOURCE: BLACK AND WHITE FILM
SOURCE_IMAGE_ID: NAPP 9125 031
SOURCE_IMAGE_DATE: 1996 06 20
SOURCE_DEM_DATE: 1967 00 00
AGENCY: WESTERN MAPPING CENTER (WMC)
PRODUCER: UNDEFINED
PRODUCTION_SYSTEM: GIS/MAGIC
COMPRESSION: UNDEFINED
STANDARD_VERSION: 1996 12
METADATA_DATE: 2000 11 15
DATA_FILE_SIZE: 42314701
BYTE_COUNT: 5489
