FILENAME: O4810717.NES.1112678.tif
QUADRANGLE_NAME: LOVEJOY
QUADRANT: NE
WEST_LONGITUDE: -107 56 15.00000
EAST_LONGITUDE: -107 52 30.00000
NORTH_LATITUDE: 48 45 0.00000
SOUTH_LATITUDE: 48 41 15.00000
PRODUCTION_DATE: 2000 11 7
RASTER_ORDER: LEFT_RIGHT/TOP_BOTTOM
BAND_ORGANIZATION: SINGLE FILE
BAND_CONTENT: BLACK&WHITE
BAND_CONTENT: UNDEFINED
BAND_CONTENT: UNDEFINED
BITS_PER_PIXEL: 8
SAMPLES_AND_LINES: 5514 7727
HORIZONTAL_DATUM: NAD83
HORIZONTAL_COORDINATE_SYSTEM: UTM
COORDINATE_ZONE: 13
HORIZONTAL_UNITS: METERS
HORIZONTAL_RESOLUTION: 1.00000
SECONDARY_HORIZONTAL_DATUM: NAD27
XY_ORIGIN: 283464.00000 5404131.00000
SECONDARY_XY_ORIGIN: 283506.01600 5403909.61700
NATION: US
NATION: "SCIENCE
STATE: MT
NW_QUAD_CORNER_XY: 284082.83000 5403828.16900
NE_QUAD_CORNER_XY: 288676.30600 5403652.84100
SE_QUAD_CORNERY_XY: 288414.15200 5396706.48000
SW_QUAD_CORNER_XY: 283814.97000 5396881.85800
SECONDARY_NW_QUAD_XY: 284075.93000 5403609.30400
SECONDARY_NE_QUAD_XY: 288669.55200 5403433.97100
SECONDARY_SE_QUAD_XY: 288407.39800 5396487.61500
SECONDARY_SW_QUAD_XY: 283808.06900 5396662.99800
RMSE_XY: 1.00000
IMAGE_SOURCE: BLACK AND WHITE FILM
SOURCE_IMAGE_ID: NAPP 9157 210
SOURCE_IMAGE_DATE: 1997 09 05
SOURCE_DEM_DATE: 1993 00 00
AGENCY: WESTERN MAPPING CENTER (WMC)
PRODUCER: UNDEFINED
PRODUCTION_SYSTEM: GIS/MAGIC
COMPRESSION: UNDEFINED
STANDARD_VERSION: 1996 12
METADATA_DATE: 2000 11 30
DATA_FILE_SIZE: 42612192
BYTE_COUNT: 5514
