FILENAME: O4810717.NWS.1112679.tif
QUADRANGLE_NAME: LOVEJOY
QUADRANT: NW
WEST_LONGITUDE: -108 0 0.00000
EAST_LONGITUDE: -107 56 15.00000
NORTH_LATITUDE: 48 45 0.00000
SOUTH_LATITUDE: 48 41 15.00000
PRODUCTION_DATE: 2000 11 7
RASTER_ORDER: LEFT_RIGHT/TOP_BOTTOM
BAND_ORGANIZATION: SINGLE FILE
BAND_CONTENT: BLACK&WHITE
BAND_CONTENT: UNDEFINED
BAND_CONTENT: UNDEFINED
BITS_PER_PIXEL: 8
SAMPLES_AND_LINES: 5519 7731
HORIZONTAL_DATUM: NAD83
HORIZONTAL_COORDINATE_SYSTEM: UTM
COORDINATE_ZONE: 13
HORIZONTAL_UNITS: METERS
HORIZONTAL_RESOLUTION: 1.00000
SECONDARY_HORIZONTAL_DATUM: NAD27
XY_ORIGIN: 278865.00000 5404310.00000
SECONDARY_XY_ORIGIN: 278907.11500 5404088.61600
NATION: US
NATION: "SCIENCE
STATE: MT
NW_QUAD_CORNER_XY: 279489.38900 5404007.27300
NE_QUAD_CORNER_XY: 284082.83000 5403828.16900
SE_QUAD_CORNERY_XY: 283814.97000 5396881.85800
SW_QUAD_CORNER_XY: 279215.82000 5397061.01300
SECONDARY_NW_QUAD_XY: 279482.34100 5403788.41400
SECONDARY_NE_QUAD_XY: 284075.93000 5403609.30400
SECONDARY_SE_QUAD_XY: 283808.06900 5396662.99800
SECONDARY_SW_QUAD_XY: 279208.77300 5396842.15900
RMSE_XY: 0.90000
IMAGE_SOURCE: BLACK AND WHITE FILM
SOURCE_IMAGE_ID: NAPP 9157 231
SOURCE_IMAGE_DATE: 1997 09 05
SOURCE_DEM_DATE: 1993 00 00
AGENCY: WESTERN MAPPING CENTER (WMC)
PRODUCER: UNDEFINED
PRODUCTION_SYSTEM: GIS/MAGIC
COMPRESSION: UNDEFINED
STANDARD_VERSION: 1996 12
METADATA_DATE: 2000 11 30
DATA_FILE_SIZE: 42672908
BYTE_COUNT: 5519
