FILENAME: O4810716.NWS.1160059.tif
QUADRANGLE_NAME: SNAKE CREEK SCHOOL
QUADRANT: NW
WEST_LONGITUDE: -107 7 30.00000
EAST_LONGITUDE: -107 3 45.00000
NORTH_LATITUDE: 48 52 30.00000
SOUTH_LATITUDE: 48 48 45.00000
PRODUCTION_DATE: 2001 8 23
RASTER_ORDER: LEFT_RIGHT/TOP_BOTTOM
BAND_ORGANIZATION: SINGLE FILE
BAND_CONTENT: BLACK&WHITE
BAND_CONTENT: UNDEFINED
BAND_CONTENT: UNDEFINED
BITS_PER_PIXEL: 8
SAMPLES_AND_LINES: 5433 7687
HORIZONTAL_DATUM: NAD83
HORIZONTAL_COORDINATE_SYSTEM: UTM
COORDINATE_ZONE: 13
HORIZONTAL_UNITS: meters
HORIZONTAL_RESOLUTION: 1.00000
SECONDARY_HORIZONTAL_DATUM: NAD27
XY_ORIGIN: 343643.00000 5416046.00000
SECONDARY_XY_ORIGIN: 343683.33100 5415823.84200
NATION: US
STATE: MT
NW_QUAD_CORNER_XY: 344188.33700 5415737.25300
NE_QUAD_CORNER_XY: 348770.76400 5415611.05700
SE_QUAD_CORNERY_XY: 348582.39600 5408664.01600
SW_QUAD_CORNER_XY: 343994.25700 5408790.24900
SECONDARY_NW_QUAD_XY: 344183.34500 5415518.31700
SECONDARY_NE_QUAD_XY: 348765.91900 5415392.11700
SECONDARY_SE_QUAD_XY: 348577.55100 5408445.07900
SECONDARY_SW_QUAD_XY: 343989.26500 5408571.31600
RMSE_XY: 2.87000
IMAGE_SOURCE: BLACK AND WHITE FILM
SOURCE_IMAGE_ID: NAPP 9101-169
SOURCE_IMAGE_DATE: 1996 7 15
SOURCE_DEM_DATE: 1998 0 0
AGENCY: WESTERN MAPPING CENTER (WMC)
PRODUCER: WOOLPERT LLP
PRODUCTION_SYSTEM: INTERGRAPH ISPM, ISIR
COMPRESSION: UNDEFINED
STANDARD_VERSION: 1996 12
METADATA_DATE: 2001 8 23
DATA_FILE_SIZE: 41768904
BYTE_COUNT: 5433
