FILENAME: O4810715.NWS.1116635.tif
QUADRANGLE_NAME: COULTER COULEE
QUADRANT: NW
WEST_LONGITUDE: -107 15 0.00000
EAST_LONGITUDE: -107 11 15.00000
NORTH_LATITUDE: 48 52 30.00000
SOUTH_LATITUDE: 48 48 45.00000
PRODUCTION_DATE: 2000 11 10
RASTER_ORDER: LEFT_RIGHT/TOP_BOTTOM
BAND_ORGANIZATION: SINGLE FILE
BAND_CONTENT: BLACK&WHITE
BAND_CONTENT: UNDEFINED
BAND_CONTENT: UNDEFINED
BITS_PER_PIXEL: 8
SAMPLES_AND_LINES: 5436 7687
HORIZONTAL_DATUM: NAD83
HORIZONTAL_COORDINATE_SYSTEM: UTM
COORDINATE_ZONE: 13
HORIZONTAL_UNITS: METERS
HORIZONTAL_RESOLUTION: 1.00000
SECONDARY_HORIZONTAL_DATUM: NAD27
XY_ORIGIN: 334471.00000 5416305.00000
SECONDARY_XY_ORIGIN: 334511.46300 5416082.98400
NATION: US
NATION: "SCIENCE
STATE: MT
NW_QUAD_CORNER_XY: 335023.55900 5416000.95500
NE_QUAD_CORNER_XY: 339605.93500 5415867.21900
SE_QUAD_CORNERY_XY: 339406.14300 5408920.25300
SW_QUAD_CORNER_XY: 334818.05300 5409054.02800
SECONDARY_NW_QUAD_XY: 335018.27400 5415782.02800
SECONDARY_NE_QUAD_XY: 339600.79600 5415648.28700
SECONDARY_SE_QUAD_XY: 339401.00400 5408701.32400
SECONDARY_SW_QUAD_XY: 334812.76800 5408835.10400
RMSE_XY: 1.00000
IMAGE_SOURCE: BLACK AND WHITE FILM
SOURCE_IMAGE_ID: NAPP 9101 285
SOURCE_IMAGE_DATE: 1996 07 15
SOURCE_IMAGE_ID: NAPP 9127 007
SOURCE_IMAGE_DATE: 1996 07 15
SOURCE_IMAGE_ID: NAPP 9148 197
SOURCE_IMAGE_DATE: 1996 08 27
SOURCE_IMAGE_ID: NAPP 10763 045
SOURCE_IMAGE_DATE: 1997 09 20
SOURCE_IMAGE_ID: NAPP 9101 182
SOURCE_IMAGE_DATE: 1996 07 15
SOURCE_DEM_DATE: 1974 00 00
AGENCY: WESTERN MAPPING CENTER (WMC)
PRODUCER: UNDEFINED
PRODUCTION_SYSTEM: GIS/MAGIC
COMPRESSION: UNDEFINED
STANDARD_VERSION: 1996 12
METADATA_DATE: 2000 11 30
DATA_FILE_SIZE: 41791968
BYTE_COUNT: 5436
