FILENAME: O4810715.SWS.1116637.tif
QUADRANGLE_NAME: COULTER COULEE
QUADRANT: SW
WEST_LONGITUDE: -107 15 0.00000
EAST_LONGITUDE: -107 11 15.00000
NORTH_LATITUDE: 48 48 45.00000
SOUTH_LATITUDE: 48 45 0.00000
PRODUCTION_DATE: 2000 11 6
RASTER_ORDER: LEFT_RIGHT/TOP_BOTTOM
BAND_ORGANIZATION: SINGLE FILE
BAND_CONTENT: BLACK&WHITE
BAND_CONTENT: UNDEFINED
BAND_CONTENT: UNDEFINED
BITS_PER_PIXEL: 8
SAMPLES_AND_LINES: 5443 7686
HORIZONTAL_DATUM: NAD83
HORIZONTAL_COORDINATE_SYSTEM: UTM
COORDINATE_ZONE: 13
HORIZONTAL_UNITS: METERS
HORIZONTAL_RESOLUTION: 1.00000
SECONDARY_HORIZONTAL_DATUM: NAD27
XY_ORIGIN: 334265.00000 5409357.00000
SECONDARY_XY_ORIGIN: 334305.56900 5409135.26100
NATION: US
NATION: "SCIENCE
STATE: MT
NW_QUAD_CORNER_XY: 334818.05300 5409054.02800
NE_QUAD_CORNER_XY: 339406.14300 5408920.25300
SE_QUAD_CORNERY_XY: 339206.54200 5401973.35100
SW_QUAD_CORNER_XY: 334612.74500 5402107.16500
SECONDARY_NW_QUAD_XY: 334812.76800 5408835.10400
SECONDARY_NE_QUAD_XY: 339401.00400 5408701.32400
SECONDARY_SE_QUAD_XY: 339201.40300 5401754.42700
SECONDARY_SW_QUAD_XY: 334607.46000 5401888.24500
RMSE_XY: 1.50000
IMAGE_SOURCE: BLACK AND WHITE FILM
SOURCE_IMAGE_ID: NAPP 9101 283
SOURCE_IMAGE_DATE: 1996 07 15
SOURCE_IMAGE_ID: NAPP 9127 008
SOURCE_IMAGE_DATE: 1996 07 15
SOURCE_IMAGE_ID: NAPP 9127 007
SOURCE_IMAGE_DATE: 1996 07 15
SOURCE_IMAGE_ID: NAPP 9101 282
SOURCE_IMAGE_DATE: 1996 07 15
SOURCE_DEM_DATE: 1974 00 00
AGENCY: WESTERN MAPPING CENTER (WMC)
PRODUCER: UNDEFINED
PRODUCTION_SYSTEM: GIS/MAGIC
COMPRESSION: UNDEFINED
STANDARD_VERSION: 1996 12
METADATA_DATE: 2000 11 30
DATA_FILE_SIZE: 41840341
BYTE_COUNT: 5443
