FILENAME: O4810714.SWS.1116625.tif
QUADRANGLE_NAME: DEAD HORSE COULEE
QUADRANT: SW
WEST_LONGITUDE: -107 22 30.00000
EAST_LONGITUDE: -107 18 45.00000
NORTH_LATITUDE: 48 48 45.00000
SOUTH_LATITUDE: 48 45 0.00000
PRODUCTION_DATE: 2000 11 6
RASTER_ORDER: LEFT_RIGHT/TOP_BOTTOM
BAND_ORGANIZATION: SINGLE FILE
BAND_CONTENT: BLACK&WHITE
BAND_CONTENT: UNDEFINED
BAND_CONTENT: UNDEFINED
BITS_PER_PIXEL: 8
SAMPLES_AND_LINES: 5454 7694
HORIZONTAL_DATUM: NAD83
HORIZONTAL_COORDINATE_SYSTEM: UTM
COORDINATE_ZONE: 13
HORIZONTAL_UNITS: METERS
HORIZONTAL_RESOLUTION: 1.00000
SECONDARY_HORIZONTAL_DATUM: NAD27
XY_ORIGIN: 325077.00000 5409636.00000
SECONDARY_XY_ORIGIN: 325117.73300 5409414.44000
NATION: US
NATION: "SCIENCE
STATE: MT
NW_QUAD_CORNER_XY: 325641.95400 5409332.89300
NE_QUAD_CORNER_XY: 330229.99000 5409191.57500
SE_QUAD_CORNERY_XY: 330018.97400 5402244.75100
SW_QUAD_CORNER_XY: 325425.23000 5402386.11100
SECONDARY_NW_QUAD_XY: 325636.37400 5409113.97800
SECONDARY_NE_QUAD_XY: 330224.55800 5408972.65500
SECONDARY_SE_QUAD_XY: 330013.54200 5402025.83600
SECONDARY_SW_QUAD_XY: 325419.65000 5402167.20000
RMSE_XY: 1.30000
IMAGE_SOURCE: BLACK AND WHITE FILM
SOURCE_IMAGE_ID: NAPP 9127 107
SOURCE_IMAGE_DATE: 1996 07 15
SOURCE_DEM_DATE: 1974 00 00
AGENCY: WESTERN MAPPING CENTER (WMC)
PRODUCER: UNDEFINED
PRODUCTION_SYSTEM: GIS/MAGIC
COMPRESSION: UNDEFINED
STANDARD_VERSION: 1996 12
METADATA_DATE: 2000 11 30
DATA_FILE_SIZE: 41968530
BYTE_COUNT: 5454
