FILENAME: O4810713.SES.1116592.tif
QUADRANGLE_NAME: SALSBERY RESERVOIR
QUADRANT: SE
WEST_LONGITUDE: -107 26 15.00000
EAST_LONGITUDE: -107 22 30.00000
NORTH_LATITUDE: 48 48 45.00000
SOUTH_LATITUDE: 48 45 0.00000
PRODUCTION_DATE: 2000 11 6
RASTER_ORDER: LEFT_RIGHT/TOP_BOTTOM
BAND_ORGANIZATION: SINGLE FILE
BAND_CONTENT: BLACK&WHITE
BAND_CONTENT: UNDEFINED
BAND_CONTENT: UNDEFINED
BITS_PER_PIXEL: 8
SAMPLES_AND_LINES: 5460 7697
HORIZONTAL_DATUM: NAD83
HORIZONTAL_COORDINATE_SYSTEM: UTM
COORDINATE_ZONE: 13
HORIZONTAL_UNITS: METERS
HORIZONTAL_RESOLUTION: 1.00000
SECONDARY_HORIZONTAL_DATUM: NAD27
XY_ORIGIN: 320483.00000 5409781.00000
SECONDARY_XY_ORIGIN: 320523.81600 5409559.53100
NATION: US
NATION: "SCIENCE
STATE: MT
NW_QUAD_CORNER_XY: 321053.94500 5409477.98400
NE_QUAD_CORNER_XY: 325641.95400 5409332.89300
SE_QUAD_CORNERY_XY: 325425.23000 5402386.11100
SW_QUAD_CORNER_XY: 320831.51200 5402531.24300
SECONDARY_NW_QUAD_XY: 321048.21900 5409259.07300
SECONDARY_NE_QUAD_XY: 325636.37400 5409113.97800
SECONDARY_SE_QUAD_XY: 325419.65000 5402167.20000
SECONDARY_SW_QUAD_XY: 320825.78600 5402312.33700
RMSE_XY: 1.00000
IMAGE_SOURCE: BLACK AND WHITE FILM
SOURCE_IMAGE_ID: NAPP 9127 114
SOURCE_IMAGE_DATE: 1996 07 15
SOURCE_DEM_DATE: 1974 00 00
AGENCY: WESTERN MAPPING CENTER (WMC)
PRODUCER: UNDEFINED
PRODUCTION_SYSTEM: GIS/MAGIC
COMPRESSION: UNDEFINED
STANDARD_VERSION: 1996 12
METADATA_DATE: 2000 11 30
DATA_FILE_SIZE: 42031080
BYTE_COUNT: 5460
