FILENAME: O4810712.NWS.1116719.tif
QUADRANGLE_NAME: WHITEWATER EAST
QUADRANT: NW
WEST_LONGITUDE: -107 37 30.00000
EAST_LONGITUDE: -107 33 45.00000
NORTH_LATITUDE: 48 52 30.00000
SOUTH_LATITUDE: 48 48 45.00000
PRODUCTION_DATE: 2000 11 2
RASTER_ORDER: LEFT_RIGHT/TOP_BOTTOM
BAND_ORGANIZATION: SINGLE FILE
BAND_CONTENT: BLACK&WHITE
BAND_CONTENT: UNDEFINED
BAND_CONTENT: UNDEFINED
BITS_PER_PIXEL: 8
SAMPLES_AND_LINES: 5473 7709
HORIZONTAL_DATUM: NAD83
HORIZONTAL_COORDINATE_SYSTEM: UTM
COORDINATE_ZONE: 13
HORIZONTAL_UNITS: METERS
HORIZONTAL_RESOLUTION: 1.00000
SECONDARY_HORIZONTAL_DATUM: NAD27
XY_ORIGIN: 306941.00000 5417186.00000
SECONDARY_XY_ORIGIN: 306981.98000 5416964.02300
NATION: US
NATION: "SCIENCE
STATE: MT
NW_QUAD_CORNER_XY: 307529.88300 5416882.56000
NE_QUAD_CORNER_XY: 312112.08900 5416726.19700
SE_QUAD_CORNERY_XY: 311878.01200 5409779.48200
SW_QUAD_CORNER_XY: 307290.09000 5409935.89100
SECONDARY_NW_QUAD_XY: 307523.71600 5416663.66000
SECONDARY_NE_QUAD_XY: 312106.06900 5416507.29300
SECONDARY_SE_QUAD_XY: 311871.99200 5409560.58100
SECONDARY_SW_QUAD_XY: 307283.92300 5409716.99500
RMSE_XY: 0.80000
IMAGE_SOURCE: BLACK AND WHITE FILM
SOURCE_IMAGE_ID: NAPP 9125 037
SOURCE_IMAGE_DATE: 1996 06 20
SOURCE_DEM_DATE: 1974 00 00
AGENCY: WESTERN MAPPING CENTER (WMC)
PRODUCER: UNDEFINED
PRODUCTION_SYSTEM: GIS/MAGIC
COMPRESSION: UNDEFINED
STANDARD_VERSION: 1996 12
METADATA_DATE: 2000 11 15
DATA_FILE_SIZE: 42196830
BYTE_COUNT: 5473
