FILENAME: O4810711.NES.1116690.tif
QUADRANGLE_NAME: WHITEWATER WEST
QUADRANT: NE
WEST_LONGITUDE: -107 41 15.00000
EAST_LONGITUDE: -107 37 30.00000
NORTH_LATITUDE: 48 52 30.00000
SOUTH_LATITUDE: 48 48 45.00000
PRODUCTION_DATE: 2000 11 8
RASTER_ORDER: LEFT_RIGHT/TOP_BOTTOM
BAND_ORGANIZATION: SINGLE FILE
BAND_CONTENT: BLACK&WHITE
BAND_CONTENT: UNDEFINED
BAND_CONTENT: UNDEFINED
BITS_PER_PIXEL: 8
SAMPLES_AND_LINES: 5478 7713
HORIZONTAL_DATUM: NAD83
HORIZONTAL_COORDINATE_SYSTEM: UTM
COORDINATE_ZONE: 13
HORIZONTAL_UNITS: METERS
HORIZONTAL_RESOLUTION: 1.00000
SECONDARY_HORIZONTAL_DATUM: NAD27
XY_ORIGIN: 302353.00000 5417346.00000
SECONDARY_XY_ORIGIN: 302394.07600 5417123.90800
NATION: US
NATION: "SCIENCE
STATE: MT
NW_QUAD_CORNER_XY: 302947.70700 5417042.69400
NE_QUAD_CORNER_XY: 307529.88300 5416882.56000
SE_QUAD_CORNERY_XY: 307290.09000 5409935.89100
SW_QUAD_CORNER_XY: 302702.19800 5410096.07200
SECONDARY_NW_QUAD_XY: 302941.39300 5416823.80000
SECONDARY_NE_QUAD_XY: 307523.71600 5416663.66000
SECONDARY_SE_QUAD_XY: 307283.92300 5409716.99500
SECONDARY_SW_QUAD_XY: 302695.88500 5409877.18100
RMSE_XY: 0.90000
IMAGE_SOURCE: BLACK AND WHITE FILM
SOURCE_IMAGE_ID: NAPP 9131 068
SOURCE_IMAGE_DATE: 1996 07 29
SOURCE_DEM_DATE: 1974 00 00
AGENCY: WESTERN MAPPING CENTER (WMC)
PRODUCER: UNDEFINED
PRODUCTION_SYSTEM: GIS/MAGIC
COMPRESSION: UNDEFINED
STANDARD_VERSION: 1996 12
METADATA_DATE: 2000 11 30
DATA_FILE_SIZE: 42257292
BYTE_COUNT: 5478
