FILENAME: O4810709.SES.1112676.tif
QUADRANGLE_NAME: MARTIN LAKE
QUADRANT: SE
WEST_LONGITUDE: -107 56 15.00000
EAST_LONGITUDE: -107 52 30.00000
NORTH_LATITUDE: 48 48 45.00000
SOUTH_LATITUDE: 48 45 0.00000
PRODUCTION_DATE: 2000 11 8
RASTER_ORDER: LEFT_RIGHT/TOP_BOTTOM
BAND_ORGANIZATION: SINGLE FILE
BAND_CONTENT: BLACK&WHITE
BAND_CONTENT: UNDEFINED
BAND_CONTENT: UNDEFINED
BITS_PER_PIXEL: 8
SAMPLES_AND_LINES: 5508 7728
HORIZONTAL_DATUM: NAD83
HORIZONTAL_COORDINATE_SYSTEM: UTM
COORDINATE_ZONE: 13
HORIZONTAL_UNITS: METERS
HORIZONTAL_RESOLUTION: 1.00000
SECONDARY_HORIZONTAL_DATUM: NAD27
XY_ORIGIN: 283732.00000 5411078.00000
SECONDARY_XY_ORIGIN: 283773.75900 5410856.28300
NATION: US
NATION: "SCIENCE
STATE: MT
NW_QUAD_CORNER_XY: 284350.95000 5410774.53600
NE_QUAD_CORNER_XY: 288938.71300 5410599.25900
SE_QUAD_CORNERY_XY: 288676.30600 5403652.84100
SW_QUAD_CORNER_XY: 284082.83000 5403828.16900
SECONDARY_NW_QUAD_XY: 284344.04900 5410555.66700
SECONDARY_NE_QUAD_XY: 288931.95800 5410380.38400
SECONDARY_SE_QUAD_XY: 288669.55200 5403433.97100
SECONDARY_SW_QUAD_XY: 284075.93000 5403609.30400
RMSE_XY: 0.90000
IMAGE_SOURCE: BLACK AND WHITE FILM
SOURCE_IMAGE_ID: NAPP 9157 212
SOURCE_IMAGE_DATE: 1997 09 05
SOURCE_DEM_DATE: 1975 00 00
AGENCY: WESTERN MAPPING CENTER (WMC)
PRODUCER: UNDEFINED
PRODUCTION_SYSTEM: GIS/MAGIC
COMPRESSION: UNDEFINED
STANDARD_VERSION: 1996 12
METADATA_DATE: 2000 11 30
DATA_FILE_SIZE: 42571332
BYTE_COUNT: 5508
