FILENAME: O4810707.SES.1116632.tif
QUADRANGLE_NAME: CROW CREEK DAM
QUADRANT: SE
WEST_LONGITUDE: -107 11 15.00000
EAST_LONGITUDE: -107 7 30.00000
NORTH_LATITUDE: 48 56 15.00000
SOUTH_LATITUDE: 48 52 30.00000
PRODUCTION_DATE: 2000 11 6
RASTER_ORDER: LEFT_RIGHT/TOP_BOTTOM
BAND_ORGANIZATION: SINGLE FILE
BAND_CONTENT: BLACK&WHITE
BAND_CONTENT: UNDEFINED
BAND_CONTENT: UNDEFINED
BITS_PER_PIXEL: 8
SAMPLES_AND_LINES: 5425 7683
HORIZONTAL_DATUM: NAD83
HORIZONTAL_COORDINATE_SYSTEM: UTM
COORDINATE_ZONE: 13
HORIZONTAL_UNITS: METERS
HORIZONTAL_RESOLUTION: 1.00000
SECONDARY_HORIZONTAL_DATUM: NAD27
XY_ORIGIN: 339259.00000 5423118.00000
SECONDARY_XY_ORIGIN: 339299.30200 5422895.67200
NATION: US
NATION: "SCIENCE
STATE: MT
NW_QUAD_CORNER_XY: 339805.92000 5422814.25000
NE_QUAD_CORNER_XY: 344382.60400 5422684.32300
SE_QUAD_CORNERY_XY: 344188.33700 5415737.25300
SW_QUAD_CORNER_XY: 339605.93500 5415867.21900
SECONDARY_NW_QUAD_XY: 339800.78200 5422595.31600
SECONDARY_NE_QUAD_XY: 344377.61200 5422465.38400
SECONDARY_SE_QUAD_XY: 344183.34500 5415518.31700
SECONDARY_SW_QUAD_XY: 339600.79600 5415648.28700
RMSE_XY: 1.00000
IMAGE_SOURCE: BLACK AND WHITE FILM
SOURCE_IMAGE_ID: NAPP 9101 180
SOURCE_IMAGE_DATE: 1996 07 15
SOURCE_DEM_DATE: 1974 00 00
AGENCY: WESTERN MAPPING CENTER (WMC)
PRODUCER: UNDEFINED
PRODUCTION_SYSTEM: GIS/MAGIC
COMPRESSION: UNDEFINED
STANDARD_VERSION: 1996 12
METADATA_DATE: 2000 11 30
DATA_FILE_SIZE: 41685700
BYTE_COUNT: 5425
