FILENAME: O4810706.NES.1116618.tif
QUADRANGLE_NAME: THOENY HILLS EAST
QUADRANT: NE
WEST_LONGITUDE: -107 18 45.00000
EAST_LONGITUDE: -107 15 0.00000
NORTH_LATITUDE: 49 0 0.00000
SOUTH_LATITUDE: 48 56 15.00000
PRODUCTION_DATE: 2000 11 13
RASTER_ORDER: LEFT_RIGHT/TOP_BOTTOM
BAND_ORGANIZATION: SINGLE FILE
BAND_CONTENT: BLACK&WHITE
BAND_CONTENT: UNDEFINED
BAND_CONTENT: UNDEFINED
BITS_PER_PIXEL: 8
SAMPLES_AND_LINES: 5432 7692
HORIZONTAL_DATUM: NAD83
HORIZONTAL_COORDINATE_SYSTEM: UTM
COORDINATE_ZONE: 13
HORIZONTAL_UNITS: METERS
HORIZONTAL_RESOLUTION: 1.00000
SECONDARY_HORIZONTAL_DATUM: NAD27
XY_ORIGIN: 330305.00000 5430337.00000
SECONDARY_XY_ORIGIN: 330345.32000 5430114.47100
NATION: US
NATION: CA
NATION: "SCIENCE
STATE: MT
NW_QUAD_CORNER_XY: 330864.25700 5430032.42600
NE_QUAD_CORNER_XY: 335435.16400 5429895.00200
SE_QUAD_CORNERY_XY: 335229.26300 5422947.94600
SW_QUAD_CORNER_XY: 330652.63200 5423085.41200
SECONDARY_NW_QUAD_XY: 330858.82500 5429813.49800
SECONDARY_NE_QUAD_XY: 335429.87800 5429676.07000
SECONDARY_SE_QUAD_XY: 335223.97700 5422729.01600
SECONDARY_SW_QUAD_XY: 330647.19900 5422866.48600
RMSE_XY: 1.70000
IMAGE_SOURCE: BLACK AND WHITE FILM
SOURCE_IMAGE_ID: NAPP 9148 194
SOURCE_IMAGE_DATE: 1996 08 27
SOURCE_IMAGE_ID: NAPP 10763 049
SOURCE_IMAGE_DATE: 1997 09 20
SOURCE_DEM_DATE: 1974 00 00
AGENCY: WESTERN MAPPING CENTER (WMC)
PRODUCER: UNDEFINED
PRODUCTION_SYSTEM: GIS/MAGIC
COMPRESSION: UNDEFINED
STANDARD_VERSION: 1996 12
METADATA_DATE: 2000 11 30
DATA_FILE_SIZE: 41788376
BYTE_COUNT: 5432
