FILENAME: O4810706.NWS.1116619.tif
QUADRANGLE_NAME: THOENY HILLS EAST
QUADRANT: NW
WEST_LONGITUDE: -107 22 30.00000
EAST_LONGITUDE: -107 18 45.00000
NORTH_LATITUDE: 49 0 0.00000
SOUTH_LATITUDE: 48 56 15.00000
PRODUCTION_DATE: 2000 11 13
RASTER_ORDER: LEFT_RIGHT/TOP_BOTTOM
BAND_ORGANIZATION: SINGLE FILE
BAND_CONTENT: BLACK&WHITE
BAND_CONTENT: UNDEFINED
BAND_CONTENT: UNDEFINED
BITS_PER_PIXEL: 8
SAMPLES_AND_LINES: 5438 7695
HORIZONTAL_DATUM: NAD83
HORIZONTAL_COORDINATE_SYSTEM: UTM
COORDINATE_ZONE: 13
HORIZONTAL_UNITS: METERS
HORIZONTAL_RESOLUTION: 1.00000
SECONDARY_HORIZONTAL_DATUM: NAD27
XY_ORIGIN: 325728.00000 5430478.00000
SECONDARY_XY_ORIGIN: 325768.38800 5430255.50800
NATION: US
NATION: CA
NATION: "SCIENCE
STATE: MT
NW_QUAD_CORNER_XY: 326293.37900 5430173.61800
NE_QUAD_CORNER_XY: 330864.25700 5430032.42600
SE_QUAD_CORNERY_XY: 330652.63200 5423085.41200
SW_QUAD_CORNER_XY: 326076.02900 5423226.64700
SECONDARY_NW_QUAD_XY: 326287.79900 5429954.69500
SECONDARY_NE_QUAD_XY: 330858.82500 5429813.49800
SECONDARY_SE_QUAD_XY: 330647.19900 5422866.48600
SECONDARY_SW_QUAD_XY: 326070.44900 5423007.72600
RMSE_XY: 1.50000
IMAGE_SOURCE: BLACK AND WHITE FILM
SOURCE_IMAGE_ID: NAPP 9148 189
SOURCE_IMAGE_DATE: 1996 08 27
SOURCE_DEM_DATE: 1974 00 00
AGENCY: WESTERN MAPPING CENTER (WMC)
PRODUCER: UNDEFINED
PRODUCTION_SYSTEM: GIS/MAGIC
COMPRESSION: UNDEFINED
STANDARD_VERSION: 1996 12
METADATA_DATE: 2000 11 30
DATA_FILE_SIZE: 41850848
BYTE_COUNT: 5438
