FILENAME: O4810704.NES.1116738.tif
QUADRANGLE_NAME: PEA LAKE
QUADRANT: NE
WEST_LONGITUDE: -107 33 45.00000
EAST_LONGITUDE: -107 30 0.00000
NORTH_LATITUDE: 49 0 0.00000
SOUTH_LATITUDE: 48 56 15.00000
PRODUCTION_DATE: 2000 11 2
RASTER_ORDER: LEFT_RIGHT/TOP_BOTTOM
BAND_ORGANIZATION: SINGLE FILE
BAND_CONTENT: BLACK&WHITE
BAND_CONTENT: UNDEFINED
BAND_CONTENT: UNDEFINED
BITS_PER_PIXEL: 8
SAMPLES_AND_LINES: 5455 7706
HORIZONTAL_DATUM: NAD83
HORIZONTAL_COORDINATE_SYSTEM: UTM
COORDINATE_ZONE: 13
HORIZONTAL_UNITS: METERS
HORIZONTAL_RESOLUTION: 1.00000
SECONDARY_HORIZONTAL_DATUM: NAD27
XY_ORIGIN: 311998.00000 5430924.00000
SECONDARY_XY_ORIGIN: 312038.55100 5430701.41400
NATION: US
NATION: CA
NATION: "SCIENCE
STATE: MT
NW_QUAD_CORNER_XY: 312580.91900 5430619.80800
NE_QUAD_CORNER_XY: 317151.70900 5430467.30900
SE_QUAD_CORNERY_XY: 316922.90800 5423520.42700
SW_QUAD_CORNER_XY: 312346.39200 5423672.97200
SECONDARY_NW_QUAD_XY: 312574.89800 5430400.90000
SECONDARY_NE_QUAD_XY: 317145.83500 5430248.39600
SECONDARY_SE_QUAD_XY: 316917.03500 5423301.51500
SECONDARY_SW_QUAD_XY: 312340.37100 5423454.06600
RMSE_XY: 1.00000
IMAGE_SOURCE: BLACK AND WHITE FILM
SOURCE_IMAGE_ID: NAPP 9148 154
SOURCE_IMAGE_DATE: 1996 08 27
SOURCE_IMAGE_ID: NAPP 9148 148
SOURCE_IMAGE_DATE: 1996 08 27
SOURCE_DEM_DATE: 1974 00 00
AGENCY: WESTERN MAPPING CENTER (WMC)
PRODUCER: UNDEFINED
PRODUCTION_SYSTEM: GIS/MAGIC
COMPRESSION: UNDEFINED
STANDARD_VERSION: 1996 12
METADATA_DATE: 2000 11 30
DATA_FILE_SIZE: 42041685
BYTE_COUNT: 5455
