FILENAME: O4810704.NWS.1116739.tif
QUADRANGLE_NAME: PEA LAKE
QUADRANT: NW
WEST_LONGITUDE: -107 37 30.00000
EAST_LONGITUDE: -107 33 45.00000
NORTH_LATITUDE: 49 0 0.00000
SOUTH_LATITUDE: 48 56 15.00000
PRODUCTION_DATE: 2000 11 2
RASTER_ORDER: LEFT_RIGHT/TOP_BOTTOM
BAND_ORGANIZATION: SINGLE FILE
BAND_CONTENT: BLACK&WHITE
BAND_CONTENT: UNDEFINED
BAND_CONTENT: UNDEFINED
BITS_PER_PIXEL: 8
SAMPLES_AND_LINES: 5461 7710
HORIZONTAL_DATUM: NAD83
HORIZONTAL_COORDINATE_SYSTEM: UTM
COORDINATE_ZONE: 13
HORIZONTAL_UNITS: METERS
HORIZONTAL_RESOLUTION: 1.00000
SECONDARY_HORIZONTAL_DATUM: NAD27
XY_ORIGIN: 307421.00000 5431080.00000
SECONDARY_XY_ORIGIN: 307461.57100 5430857.26900
NATION: US
NATION: CA
NATION: "SCIENCE
STATE: MT
NW_QUAD_CORNER_XY: 308010.15900 5430776.07700
NE_QUAD_CORNER_XY: 312580.91900 5430619.80800
SE_QUAD_CORNERY_XY: 312346.39200 5423672.97200
SW_QUAD_CORNER_XY: 307769.90600 5423829.28800
SECONDARY_NW_QUAD_XY: 308003.99200 5430557.17300
SECONDARY_NE_QUAD_XY: 312574.89800 5430400.90000
SECONDARY_SE_QUAD_XY: 312340.37100 5423454.06600
SECONDARY_SW_QUAD_XY: 307763.73900 5423610.38600
RMSE_XY: 1.30000
IMAGE_SOURCE: BLACK AND WHITE FILM
SOURCE_IMAGE_ID: NAPP 9148 148
SOURCE_IMAGE_DATE: 1996 08 27
SOURCE_DEM_DATE: 1974 00 00
AGENCY: WESTERN MAPPING CENTER (WMC)
PRODUCER: UNDEFINED
PRODUCTION_SYSTEM: GIS/MAGIC
COMPRESSION: UNDEFINED
STANDARD_VERSION: 1996 12
METADATA_DATE: 2000 11 30
DATA_FILE_SIZE: 42109771
BYTE_COUNT: 5461
