FILENAME: O4810704.SWS.1116741.tif
QUADRANGLE_NAME: PEA LAKE
QUADRANT: SW
WEST_LONGITUDE: -107 37 30.00000
EAST_LONGITUDE: -107 33 45.00000
NORTH_LATITUDE: 48 56 15.00000
SOUTH_LATITUDE: 48 52 30.00000
PRODUCTION_DATE: 2000 11 2
RASTER_ORDER: LEFT_RIGHT/TOP_BOTTOM
BAND_ORGANIZATION: SINGLE FILE
BAND_CONTENT: BLACK&WHITE
BAND_CONTENT: UNDEFINED
BAND_CONTENT: UNDEFINED
BITS_PER_PIXEL: 8
SAMPLES_AND_LINES: 5467 7709
HORIZONTAL_DATUM: NAD83
HORIZONTAL_COORDINATE_SYSTEM: UTM
COORDINATE_ZONE: 13
HORIZONTAL_UNITS: METERS
HORIZONTAL_RESOLUTION: 1.00000
SECONDARY_HORIZONTAL_DATUM: NAD27
XY_ORIGIN: 307181.00000 5424133.00000
SECONDARY_XY_ORIGIN: 307221.77500 5423910.64500
NATION: US
NATION: "SCIENCE
STATE: MT
NW_QUAD_CORNER_XY: 307769.90600 5423829.28800
NE_QUAD_CORNER_XY: 312346.39200 5423672.97200
SE_QUAD_CORNERY_XY: 312112.08900 5416726.19700
SW_QUAD_CORNER_XY: 307529.88300 5416882.56000
SECONDARY_NW_QUAD_XY: 307763.73900 5423610.38600
SECONDARY_NE_QUAD_XY: 312340.37100 5423454.06600
SECONDARY_SE_QUAD_XY: 312106.06900 5416507.29300
SECONDARY_SW_QUAD_XY: 307523.71600 5416663.66000
RMSE_XY: 1.00000
IMAGE_SOURCE: BLACK AND WHITE FILM
SOURCE_IMAGE_ID: NAPP 9148 150
SOURCE_IMAGE_DATE: 1996 08 27
SOURCE_IMAGE_ID: NAPP 9148 148
SOURCE_IMAGE_DATE: 1996 08 27
SOURCE_DEM_DATE: 1974 00 00
AGENCY: WESTERN MAPPING CENTER (WMC)
PRODUCER: UNDEFINED
PRODUCTION_SYSTEM: GIS/MAGIC
COMPRESSION: UNDEFINED
STANDARD_VERSION: 1996 12
METADATA_DATE: 2000 11 30
DATA_FILE_SIZE: 42150570
BYTE_COUNT: 5467
