FILENAME: O4810703.NES.1116686.tif
QUADRANGLE_NAME: GUSTIN COULEE
QUADRANT: NE
WEST_LONGITUDE: -107 41 15.00000
EAST_LONGITUDE: -107 37 30.00000
NORTH_LATITUDE: 49 0 0.00000
SOUTH_LATITUDE: 48 56 15.00000
PRODUCTION_DATE: 2000 11 8
RASTER_ORDER: LEFT_RIGHT/TOP_BOTTOM
BAND_ORGANIZATION: SINGLE FILE
BAND_CONTENT: BLACK&WHITE
BAND_CONTENT: UNDEFINED
BAND_CONTENT: UNDEFINED
BITS_PER_PIXEL: 8
SAMPLES_AND_LINES: 5467 7714
HORIZONTAL_DATUM: NAD83
HORIZONTAL_COORDINATE_SYSTEM: UTM
COORDINATE_ZONE: 13
HORIZONTAL_UNITS: METERS
HORIZONTAL_RESOLUTION: 1.00000
SECONDARY_HORIZONTAL_DATUM: NAD27
XY_ORIGIN: 302845.00000 5431241.00000
SECONDARY_XY_ORIGIN: 302885.59000 5431018.12300
NATION: US
NATION: CA
NATION: "SCIENCE
STATE: MT
NW_QUAD_CORNER_XY: 303439.43200 5430936.11500
NE_QUAD_CORNER_XY: 308010.15900 5430776.07700
SE_QUAD_CORNERY_XY: 307769.90600 5423829.28800
SW_QUAD_CORNER_XY: 303193.45200 5423989.37500
SECONDARY_NW_QUAD_XY: 303433.11800 5430717.21700
SECONDARY_NE_QUAD_XY: 308003.99200 5430557.17300
SECONDARY_SE_QUAD_XY: 307763.73900 5423610.38600
SECONDARY_SW_QUAD_XY: 303187.13800 5423770.47800
RMSE_XY: 0.70000
IMAGE_SOURCE: BLACK AND WHITE FILM
SOURCE_IMAGE_ID: NAPP 9131 064
SOURCE_IMAGE_DATE: 1996 07 29
SOURCE_DEM_DATE: 1974 00 00
AGENCY: WESTERN MAPPING CENTER (WMC)
PRODUCER: UNDEFINED
PRODUCTION_SYSTEM: GIS/MAGIC
COMPRESSION: UNDEFINED
STANDARD_VERSION: 1996 12
METADATA_DATE: 2000 11 30
DATA_FILE_SIZE: 42177905
BYTE_COUNT: 5467
