FILENAME: O4810702.NWS.1112719.tif
QUADRANGLE_NAME: MORGAN
QUADRANT: NW
WEST_LONGITUDE: -107 52 30.00000
EAST_LONGITUDE: -107 48 45.00000
NORTH_LATITUDE: 49 0 0.00000
SOUTH_LATITUDE: 48 56 15.00000
PRODUCTION_DATE: 2000 11 8
RASTER_ORDER: LEFT_RIGHT/TOP_BOTTOM
BAND_ORGANIZATION: SINGLE FILE
BAND_CONTENT: BLACK&WHITE
BAND_CONTENT: UNDEFINED
BAND_CONTENT: UNDEFINED
BITS_PER_PIXEL: 8
SAMPLES_AND_LINES: 5485 7725
HORIZONTAL_DATUM: NAD83
HORIZONTAL_COORDINATE_SYSTEM: UTM
COORDINATE_ZONE: 13
HORIZONTAL_UNITS: METERS
HORIZONTAL_RESOLUTION: 1.00000
SECONDARY_HORIZONTAL_DATUM: NAD27
XY_ORIGIN: 289115.00000 5431743.00000
SECONDARY_XY_ORIGIN: 289155.87100 5431520.20700
NATION: US
NATION: CA
NATION: "SCIENCE
STATE: MT
NW_QUAD_CORNER_XY: 289727.44800 5431438.85200
NE_QUAD_CORNER_XY: 294298.07600 5431267.50300
SE_QUAD_CORNERY_XY: 294040.64000 5424320.86300
SW_QUAD_CORNER_XY: 289464.28400 5424492.26400
SECONDARY_NW_QUAD_XY: 289720.69400 5431219.97000
SECONDARY_NE_QUAD_XY: 294291.46800 5431048.61500
SECONDARY_SE_QUAD_XY: 294034.03200 5424101.97700
SECONDARY_SW_QUAD_XY: 289457.53000 5424273.38400
RMSE_XY: 1.00000
IMAGE_SOURCE: BLACK AND WHITE FILM
SOURCE_IMAGE_ID: NAPP 9148 077
SOURCE_IMAGE_DATE: 1996 08 27
SOURCE_DEM_DATE: 1975 00 00
AGENCY: WESTERN MAPPING CENTER (WMC)
PRODUCER: UNDEFINED
PRODUCTION_SYSTEM: GIS/MAGIC
COMPRESSION: UNDEFINED
STANDARD_VERSION: 1996 12
METADATA_DATE: 2000 11 30
DATA_FILE_SIZE: 42377110
BYTE_COUNT: 5485
