FILENAME: O4810701.NWS.1112671.tif
QUADRANGLE_NAME: LORING NW
QUADRANT: NW
WEST_LONGITUDE: -108 0 0.00000
EAST_LONGITUDE: -107 56 15.00000
NORTH_LATITUDE: 49 0 0.00000
SOUTH_LATITUDE: 48 56 15.00000
PRODUCTION_DATE: 2000 11 8
RASTER_ORDER: LEFT_RIGHT/TOP_BOTTOM
BAND_ORGANIZATION: SINGLE FILE
BAND_CONTENT: BLACK&WHITE
BAND_CONTENT: UNDEFINED
BAND_CONTENT: UNDEFINED
BITS_PER_PIXEL: 8
SAMPLES_AND_LINES: 5496 7732
HORIZONTAL_DATUM: NAD83
HORIZONTAL_COORDINATE_SYSTEM: UTM
COORDINATE_ZONE: 13
HORIZONTAL_UNITS: METERS
HORIZONTAL_RESOLUTION: 1.00000
SECONDARY_HORIZONTAL_DATUM: NAD27
XY_ORIGIN: 279962.00000 5432097.00000
SECONDARY_XY_ORIGIN: 280003.13600 5431874.41900
NATION: US
NATION: CA
NATION: "SCIENCE
STATE: MT
NW_QUAD_CORNER_XY: 280586.29900 5431792.86400
NE_QUAD_CORNER_XY: 285156.85600 5431613.97200
SE_QUAD_CORNERY_XY: 284887.96300 5424667.43800
SW_QUAD_CORNER_XY: 280311.67600 5424846.38400
SECONDARY_NW_QUAD_XY: 280579.25000 5431573.99300
SECONDARY_NE_QUAD_XY: 285149.95400 5431395.09600
SECONDARY_SE_QUAD_XY: 284881.06100 5424448.56300
SECONDARY_SW_QUAD_XY: 280304.62800 5424627.51500
RMSE_XY: 1.00000
IMAGE_SOURCE: BLACK AND WHITE FILM
SOURCE_IMAGE_ID: NAPP 9157 223
SOURCE_IMAGE_DATE: 1997 09 05
SOURCE_DEM_DATE: 1975 00 00
AGENCY: WESTERN MAPPING CENTER (WMC)
PRODUCER: UNDEFINED
PRODUCTION_SYSTEM: GIS/MAGIC
COMPRESSION: UNDEFINED
STANDARD_VERSION: 1996 12
METADATA_DATE: 2000 11 30
DATA_FILE_SIZE: 42500568
BYTE_COUNT: 5496
