FILENAME: O4810864.NES.1116525.tif
QUADRANGLE_NAME: SEYMOUR RESERVOIR
QUADRANT: NE
WEST_LONGITUDE: -108 3 45.00000
EAST_LONGITUDE: -108 0 0.00000
NORTH_LATITUDE: 48 7 30.00000
SOUTH_LATITUDE: 48 3 45.00000
PRODUCTION_DATE: 2000 11 13
RASTER_ORDER: LEFT_RIGHT/TOP_BOTTOM
BAND_ORGANIZATION: SINGLE FILE
BAND_CONTENT: BLACK&WHITE
BAND_CONTENT: UNDEFINED
BAND_CONTENT: UNDEFINED
BITS_PER_PIXEL: 8
SAMPLES_AND_LINES: 5575 7731
HORIZONTAL_DATUM: NAD83
HORIZONTAL_COORDINATE_SYSTEM: UTM
COORDINATE_ZONE: 12
HORIZONTAL_UNITS: METERS
HORIZONTAL_RESOLUTION: 1.00000
SECONDARY_HORIZONTAL_DATUM: NAD27
XY_ORIGIN: 718232.00000 5334848.00000
SECONDARY_XY_ORIGIN: 718289.55500 5334631.49500
NATION: US
NATION: "SCIENCE
STATE: MT
NW_QUAD_CORNER_XY: 718584.09200 5334367.57700
NE_QUAD_CORNER_XY: 723234.36200 5334547.15100
SE_QUAD_CORNERY_XY: 723505.27200 5327601.44300
SW_QUAD_CORNER_XY: 718849.35000 5327421.82600
SECONDARY_NW_QUAD_XY: 718590.99000 5334148.80000
SECONDARY_NE_QUAD_XY: 723241.40600 5334328.38000
SECONDARY_SE_QUAD_XY: 723512.31600 5327382.68500
SECONDARY_SW_QUAD_XY: 718856.24700 5327203.06200
RMSE_XY: 1.00000
IMAGE_SOURCE: BLACK AND WHITE FILM
SOURCE_IMAGE_ID: NAPP 9142 121
SOURCE_IMAGE_DATE: 1996 08 24
SOURCE_DEM_DATE: 1965 00 00
AGENCY: WESTERN MAPPING CENTER (WMC)
PRODUCER: UNDEFINED
PRODUCTION_SYSTEM: GIS/MAGIC
COMPRESSION: UNDEFINED
STANDARD_VERSION: 1996 12
METADATA_DATE: 2000 11 14
DATA_FILE_SIZE: 43105900
BYTE_COUNT: 5575
