FILENAME: O4810863.NES.1116424.tif
QUADRANGLE_NAME: PHILLIPS
QUADRANT: NE
WEST_LONGITUDE: -108 11 15.00000
EAST_LONGITUDE: -108 7 30.00000
NORTH_LATITUDE: 48 7 30.00000
SOUTH_LATITUDE: 48 3 45.00000
PRODUCTION_DATE: 2000 11 13
RASTER_ORDER: LEFT_RIGHT/TOP_BOTTOM
BAND_ORGANIZATION: SINGLE FILE
BAND_CONTENT: BLACK&WHITE
BAND_CONTENT: UNDEFINED
BAND_CONTENT: UNDEFINED
BITS_PER_PIXEL: 8
SAMPLES_AND_LINES: 5564 7723
HORIZONTAL_DATUM: NAD83
HORIZONTAL_COORDINATE_SYSTEM: UTM
COORDINATE_ZONE: 12
HORIZONTAL_UNITS: METERS
HORIZONTAL_RESOLUTION: 1.00000
SECONDARY_HORIZONTAL_DATUM: NAD27
XY_ORIGIN: 708931.00000 5334492.00000
SECONDARY_XY_ORIGIN: 708988.62800 5334275.39100
NATION: US
NATION: "SCIENCE
STATE: MT
NW_QUAD_CORNER_XY: 709283.46900 5334019.78600
NE_QUAD_CORNER_XY: 713933.79400 5334191.78900
SE_QUAD_CORNERY_XY: 714193.40100 5327245.99600
SW_QUAD_CORNER_XY: 709537.42400 5327073.95300
SECONDARY_NW_QUAD_XY: 709290.07300 5333800.99800
SECONDARY_NE_QUAD_XY: 713940.54500 5333973.00600
SECONDARY_SE_QUAD_XY: 714200.15100 5327027.22700
SECONDARY_SW_QUAD_XY: 709544.02700 5326855.17800
RMSE_XY: 0.70000
IMAGE_SOURCE: BLACK AND WHITE FILM
SOURCE_IMAGE_ID: NAPP 9143 105
SOURCE_IMAGE_DATE: 1996 08 24
SOURCE_DEM_DATE: 1965 00 00
AGENCY: WESTERN MAPPING CENTER (WMC)
PRODUCER: UNDEFINED
PRODUCTION_SYSTEM: GIS/MAGIC
COMPRESSION: UNDEFINED
STANDARD_VERSION: 1996 12
METADATA_DATE: 2000 11 14
DATA_FILE_SIZE: 42976336
BYTE_COUNT: 5564
