FILENAME: O4810862.SWS.1114597.tif
QUADRANGLE_NAME: ESTER LAKE
QUADRANT: SW
WEST_LONGITUDE: -108 22 30.00000
EAST_LONGITUDE: -108 18 45.00000
NORTH_LATITUDE: 48 3 45.00000
SOUTH_LATITUDE: 48 0 0.00000
PRODUCTION_DATE: 2000 11 9
RASTER_ORDER: LEFT_RIGHT/TOP_BOTTOM
BAND_ORGANIZATION: SINGLE FILE
BAND_CONTENT: BLACK&WHITE
BAND_CONTENT: UNDEFINED
BAND_CONTENT: UNDEFINED
BITS_PER_PIXEL: 8
SAMPLES_AND_LINES: 5553 7712
HORIZONTAL_DATUM: NAD83
HORIZONTAL_COORDINATE_SYSTEM: UTM
COORDINATE_ZONE: 12
HORIZONTAL_UNITS: METERS
HORIZONTAL_RESOLUTION: 1.00000
SECONDARY_HORIZONTAL_DATUM: NAD27
XY_ORIGIN: 695216.00000 5327042.00000
SECONDARY_XY_ORIGIN: 695273.93600 5326825.33500
NATION: US
NATION: "SCIENCE
STATE: MT
NW_QUAD_CORNER_XY: 695569.33600 5326580.53900
NE_QUAD_CORNER_XY: 700225.39100 5326741.22500
SE_QUAD_CORNERY_XY: 700467.80500 5319795.37300
SW_QUAD_CORNER_XY: 695806.10600 5319634.65000
SECONDARY_NW_QUAD_XY: 695575.49900 5326361.74900
SECONDARY_NE_QUAD_XY: 700231.70100 5326522.44000
SECONDARY_SE_QUAD_XY: 700474.11400 5319576.60200
SECONDARY_SW_QUAD_XY: 695812.26900 5319415.87500
RMSE_XY: 1.10000
IMAGE_SOURCE: BLACK AND WHITE FILM
SOURCE_IMAGE_ID: NAPP 9143 254
SOURCE_IMAGE_DATE: 1996 08 24
SOURCE_DEM_DATE: 1970 00 00
AGENCY: WESTERN MAPPING CENTER (WMC)
PRODUCER: UNDEFINED
PRODUCTION_SYSTEM: GIS/MAGIC
COMPRESSION: UNDEFINED
STANDARD_VERSION: 1996 12
METADATA_DATE: 2000 11 14
DATA_FILE_SIZE: 42830289
BYTE_COUNT: 5553
