FILENAME: O4810861.SWS.1114549.tif
QUADRANGLE_NAME: BALL COULEE
QUADRANT: SW
WEST_LONGITUDE: -108 30 0.00000
EAST_LONGITUDE: -108 26 15.00000
NORTH_LATITUDE: 48 3 45.00000
SOUTH_LATITUDE: 48 0 0.00000
PRODUCTION_DATE: 2000 11 9
RASTER_ORDER: LEFT_RIGHT/TOP_BOTTOM
BAND_ORGANIZATION: SINGLE FILE
BAND_CONTENT: BLACK&WHITE
BAND_CONTENT: UNDEFINED
BAND_CONTENT: UNDEFINED
BITS_PER_PIXEL: 8
SAMPLES_AND_LINES: 5543 7704
HORIZONTAL_DATUM: NAD83
HORIZONTAL_COORDINATE_SYSTEM: UTM
COORDINATE_ZONE: 12
HORIZONTAL_UNITS: METERS
HORIZONTAL_RESOLUTION: 1.00000
SECONDARY_HORIZONTAL_DATUM: NAD27
XY_ORIGIN: 685903.00000 5326724.00000
SECONDARY_XY_ORIGIN: 685961.18100 5326507.32600
NATION: US
NATION: "SCIENCE
STATE: MT
NW_QUAD_CORNER_XY: 686257.15300 5326270.52400
NE_QUAD_CORNER_XY: 690913.25600 5326423.63900
SE_QUAD_CORNERY_XY: 691144.38200 5319477.71400
SW_QUAD_CORNER_XY: 686482.63500 5319324.56300
SECONDARY_NW_QUAD_XY: 686263.02200 5326051.72400
SECONDARY_NE_QUAD_XY: 690919.27300 5326204.84400
SECONDARY_SE_QUAD_XY: 691150.39800 5319258.93300
SECONDARY_SW_QUAD_XY: 686488.50400 5319105.77800
RMSE_XY: 1.40000
IMAGE_SOURCE: BLACK AND WHITE FILM
SOURCE_IMAGE_ID: NAPP 9144 136
SOURCE_IMAGE_DATE: 1996 08 25
SOURCE_IMAGE_ID: NAPP 9144 137
SOURCE_IMAGE_DATE: 1996 08 25
SOURCE_DEM_DATE: 1970 00 00
AGENCY: WESTERN MAPPING CENTER (WMC)
PRODUCER: UNDEFINED
PRODUCTION_SYSTEM: GIS/MAGIC
COMPRESSION: UNDEFINED
STANDARD_VERSION: 1996 12
METADATA_DATE: 2000 11 14
DATA_FILE_SIZE: 42708815
BYTE_COUNT: 5543
