FILENAME: O4810860.NES.1112826.tif
QUADRANGLE_NAME: LODGE POLE
QUADRANT: NE
WEST_LONGITUDE: -108 33 45.00000
EAST_LONGITUDE: -108 30 0.00000
NORTH_LATITUDE: 48 7 30.00000
SOUTH_LATITUDE: 48 3 45.00000
PRODUCTION_DATE: 2000 11 9
RASTER_ORDER: LEFT_RIGHT/TOP_BOTTOM
BAND_ORGANIZATION: SINGLE FILE
BAND_CONTENT: BLACK&WHITE
BAND_CONTENT: UNDEFINED
BAND_CONTENT: UNDEFINED
BITS_PER_PIXEL: 8
SAMPLES_AND_LINES: 5532 7701
HORIZONTAL_DATUM: NAD83
HORIZONTAL_COORDINATE_SYSTEM: UTM
COORDINATE_ZONE: 12
HORIZONTAL_UNITS: METERS
HORIZONTAL_RESOLUTION: 1.00000
SECONDARY_HORIZONTAL_DATUM: NAD27
XY_ORIGIN: 681027.00000 5333517.00000
SECONDARY_XY_ORIGIN: 681085.20200 5333300.37000
NATION: US
NATION: "SCIENCE
STATE: MT
NW_QUAD_CORNER_XY: 681380.96800 5333067.25000
NE_QUAD_CORNER_XY: 686031.44700 5333216.54600
SE_QUAD_CORNERY_XY: 686257.15300 5326270.52400
SW_QUAD_CORNER_XY: 681601.02500 5326121.19300
SECONDARY_NW_QUAD_XY: 681386.69100 5332848.43200
SECONDARY_NE_QUAD_XY: 686037.31700 5332997.73300
SECONDARY_SE_QUAD_XY: 686263.02200 5326051.72400
SECONDARY_SW_QUAD_XY: 681606.74800 5325902.38900
RMSE_XY: 0.90000
IMAGE_SOURCE: BLACK AND WHITE FILM
SOURCE_IMAGE_ID: NAPP 9138 105
SOURCE_IMAGE_DATE: 1996 08 23
SOURCE_IMAGE_ID: NAPP 9138 167
SOURCE_IMAGE_DATE: 1996 08 23
SOURCE_DEM_DATE: 1970 00 00
AGENCY: WESTERN MAPPING CENTER (WMC)
PRODUCER: UNDEFINED
PRODUCTION_SYSTEM: GIS/MAGIC
COMPRESSION: UNDEFINED
STANDARD_VERSION: 1996 12
METADATA_DATE: 2000 11 13
DATA_FILE_SIZE: 42607464
BYTE_COUNT: 5532
