FILENAME: O4810860.SES.1112828.tif
QUADRANGLE_NAME: LODGE POLE
QUADRANT: SE
WEST_LONGITUDE: -108 33 45.00000
EAST_LONGITUDE: -108 30 0.00000
NORTH_LATITUDE: 48 3 45.00000
SOUTH_LATITUDE: 48 0 0.00000
PRODUCTION_DATE: 2000 11 9
RASTER_ORDER: LEFT_RIGHT/TOP_BOTTOM
BAND_ORGANIZATION: SINGLE FILE
BAND_CONTENT: BLACK&WHITE
BAND_CONTENT: UNDEFINED
BAND_CONTENT: UNDEFINED
BITS_PER_PIXEL: 8
SAMPLES_AND_LINES: 5537 7701
HORIZONTAL_DATUM: NAD83
HORIZONTAL_COORDINATE_SYSTEM: UTM
COORDINATE_ZONE: 12
HORIZONTAL_UNITS: METERS
HORIZONTAL_RESOLUTION: 1.00000
SECONDARY_HORIZONTAL_DATUM: NAD27
XY_ORIGIN: 681247.00000 5326571.00000
SECONDARY_XY_ORIGIN: 681305.26500 5326354.39700
NATION: US
NATION: "SCIENCE
STATE: MT
NW_QUAD_CORNER_XY: 681601.02500 5326121.19300
NE_QUAD_CORNER_XY: 686257.15300 5326270.52400
SE_QUAD_CORNERY_XY: 686482.63500 5319324.56300
SW_QUAD_CORNER_XY: 681820.86500 5319175.19800
SECONDARY_NW_QUAD_XY: 681606.74800 5325902.38900
SECONDARY_NE_QUAD_XY: 686263.02200 5326051.72400
SECONDARY_SE_QUAD_XY: 686488.50400 5319105.77800
SECONDARY_SW_QUAD_XY: 681826.58700 5318956.40800
RMSE_XY: 1.10000
IMAGE_SOURCE: BLACK AND WHITE FILM
SOURCE_IMAGE_ID: NAPP 9138 103
SOURCE_IMAGE_DATE: 1996 08 23
SOURCE_IMAGE_ID: NAPP 9138 169
SOURCE_IMAGE_DATE: 1996 08 23
SOURCE_IMAGE_ID: NAPP 9138 102
SOURCE_IMAGE_DATE: 1996 08 23
SOURCE_DEM_DATE: 1970 00 00
AGENCY: WESTERN MAPPING CENTER (WMC)
PRODUCER: UNDEFINED
PRODUCTION_SYSTEM: GIS/MAGIC
COMPRESSION: UNDEFINED
STANDARD_VERSION: 1996 12
METADATA_DATE: 2000 11 13
DATA_FILE_SIZE: 42645974
BYTE_COUNT: 5537
