FILENAME: O4810859.NWS.1080704.tif
QUADRANGLE_NAME: STIFFARM COULEE
QUADRANT: NW
WEST_LONGITUDE: -108 45 0.00000
EAST_LONGITUDE: -108 41 15.00000
NORTH_LATITUDE: 48 7 30.00000
SOUTH_LATITUDE: 48 3 45.00000
PRODUCTION_DATE: 2000 6 7
RASTER_ORDER: LEFT_RIGHT/TOP_BOTTOM
BAND_ORGANIZATION: SINGLE FILE
BAND_CONTENT: BLACK&WHITE
BAND_CONTENT: UNDEFINED
BAND_CONTENT: UNDEFINED
BITS_PER_PIXEL: 8
SAMPLES_AND_LINES: 5515 7690
HORIZONTAL_DATUM: NAD83
HORIZONTAL_COORDINATE_SYSTEM: UTM
COORDINATE_ZONE: 12
HORIZONTAL_UNITS: METERS
HORIZONTAL_RESOLUTION: 1.00000
SECONDARY_HORIZONTAL_DATUM: NAD27
XY_ORIGIN: 667075.00000 5333081.00000
SECONDARY_XY_ORIGIN: 667133.44600 5332864.51400
NATION: US
NATION: "SCIENCE
STATE: MT
NW_QUAD_CORNER_XY: 667429.39300 5332642.06300
NE_QUAD_CORNER_XY: 672079.94000 5332780.00900
SE_QUAD_CORNERY_XY: 672288.70200 5325833.88500
SW_QUAD_CORNER_XY: 667632.50800 5325695.90600
SECONDARY_NW_QUAD_XY: 667434.67600 5332423.23200
SECONDARY_NE_QUAD_XY: 672085.37000 5332561.18200
SECONDARY_SE_QUAD_XY: 672294.13100 5325615.07100
SECONDARY_SW_QUAD_XY: 667637.79000 5325477.08800
RMSE_XY: 1.70000
IMAGE_SOURCE: BLACK AND WHITE FILM
SOURCE_IMAGE_ID: NAPP 9144 250
SOURCE_IMAGE_DATE: 1996 08 25
SOURCE_IMAGE_ID: NAPP 9157 141
SOURCE_IMAGE_DATE: 1997 09 05
SOURCE_IMAGE_ID: NAPP 9144 251
SOURCE_IMAGE_DATE: 1996 08 25
SOURCE_IMAGE_ID: NAPP 9144 249
SOURCE_IMAGE_DATE: 1996 08 25
SOURCE_IMAGE_ID: NAPP 9144 189
SOURCE_IMAGE_DATE: 1996 08 25
SOURCE_DEM_DATE: 1970 00 00
AGENCY: WESTERN MAPPING CENTER (WMC)
PRODUCER: UNDEFINED
PRODUCTION_SYSTEM: GIS/MAGIC
COMPRESSION: UNDEFINED
STANDARD_VERSION: 1996 12
METADATA_DATE: 2000 06 14
DATA_FILE_SIZE: 42415865
BYTE_COUNT: 5515
