FILENAME: O4810858.NES.1080695.tif
QUADRANGLE_NAME: LAKE SEVENTEEN EAST
QUADRANT: NE
WEST_LONGITUDE: -108 48 45.00000
EAST_LONGITUDE: -108 45 0.00000
NORTH_LATITUDE: 48 7 30.00000
SOUTH_LATITUDE: 48 3 45.00000
PRODUCTION_DATE: 2000 6 7
RASTER_ORDER: LEFT_RIGHT/TOP_BOTTOM
BAND_ORGANIZATION: SINGLE FILE
BAND_CONTENT: BLACK&WHITE
BAND_CONTENT: UNDEFINED
BAND_CONTENT: UNDEFINED
BITS_PER_PIXEL: 8
SAMPLES_AND_LINES: 5510 7686
HORIZONTAL_DATUM: NAD83
HORIZONTAL_COORDINATE_SYSTEM: UTM
COORDINATE_ZONE: 12
HORIZONTAL_UNITS: METERS
HORIZONTAL_RESOLUTION: 1.00000
SECONDARY_HORIZONTAL_DATUM: NAD27
XY_ORIGIN: 662424.00000 5332943.00000
SECONDARY_XY_ORIGIN: 662482.45600 5332726.54800
NATION: US
NATION: "SCIENCE
STATE: MT
NW_QUAD_CORNER_XY: 662778.82400 5332507.90000
NE_QUAD_CORNER_XY: 667429.39300 5332642.06300
SE_QUAD_CORNERY_XY: 667632.50800 5325695.90600
SW_QUAD_CORNER_XY: 662976.29200 5325561.71100
SECONDARY_NW_QUAD_XY: 662783.96000 5332289.06400
SECONDARY_NE_QUAD_XY: 667434.67600 5332423.23200
SECONDARY_SE_QUAD_XY: 667637.79000 5325477.08800
SECONDARY_SW_QUAD_XY: 662981.42800 5325342.88900
RMSE_XY: 0.90000
IMAGE_SOURCE: BLACK AND WHITE FILM
SOURCE_IMAGE_ID: NAPP 9157 141
SOURCE_IMAGE_DATE: 1997 09 05
SOURCE_IMAGE_ID: NAPP 9157 142
SOURCE_IMAGE_DATE: 1997 09 05
SOURCE_IMAGE_ID: NAPP 9157 140
SOURCE_IMAGE_DATE: 1997 09 05
SOURCE_DEM_DATE: 1970 00 00
AGENCY: WESTERN MAPPING CENTER (WMC)
PRODUCER: UNDEFINED
PRODUCTION_SYSTEM: GIS/MAGIC
COMPRESSION: UNDEFINED
STANDARD_VERSION: 1996 12
METADATA_DATE: 2000 06 14
DATA_FILE_SIZE: 42355370
BYTE_COUNT: 5510
