FILENAME: O4810857.NES.1080678.tif
QUADRANGLE_NAME: LAKE SEVENTEEN WEST
QUADRANT: NE
WEST_LONGITUDE: -108 56 15.00000
EAST_LONGITUDE: -108 52 30.00000
NORTH_LATITUDE: 48 7 30.00000
SOUTH_LATITUDE: 48 3 45.00000
PRODUCTION_DATE: 2000 5 31
RASTER_ORDER: LEFT_RIGHT/TOP_BOTTOM
BAND_ORGANIZATION: SINGLE FILE
BAND_CONTENT: BLACK&WHITE
BAND_CONTENT: UNDEFINED
BAND_CONTENT: UNDEFINED
BITS_PER_PIXEL: 8
SAMPLES_AND_LINES: 5500 7678
HORIZONTAL_DATUM: NAD83
HORIZONTAL_COORDINATE_SYSTEM: UTM
COORDINATE_ZONE: 12
HORIZONTAL_UNITS: METERS
HORIZONTAL_RESOLUTION: 1.00000
SECONDARY_HORIZONTAL_DATUM: NAD27
XY_ORIGIN: 653122.00000 5332678.00000
SECONDARY_XY_ORIGIN: 653180.48800 5332461.61800
NATION: US
NATION: "SCIENCE
STATE: MT
NW_QUAD_CORNER_XY: 653477.62400 5332250.91900
NE_QUAD_CORNER_XY: 658128.23400 5332377.51800
SE_QUAD_CORNERY_XY: 658320.05600 5325431.29900
SW_QUAD_CORNER_XY: 653663.79900 5325304.67000
SECONDARY_NW_QUAD_XY: 653482.46700 5332032.07500
SECONDARY_NE_QUAD_XY: 658133.22400 5332158.67900
SECONDARY_SE_QUAD_XY: 658325.04500 5325212.47300
SECONDARY_SW_QUAD_XY: 653668.64200 5325085.84000
RMSE_XY: 0.80000
IMAGE_SOURCE: BLACK AND WHITE FILM
SOURCE_IMAGE_ID: NAPP 9147 135
SOURCE_IMAGE_DATE: 1996 08 24
SOURCE_IMAGE_ID: NAPP 9147 134
SOURCE_IMAGE_DATE: 1996 08 24
SOURCE_IMAGE_ID: NAPP 9147 136
SOURCE_IMAGE_DATE: 1996 08 24
SOURCE_IMAGE_ID: NAPP 9157 080
SOURCE_IMAGE_DATE: 1997 09 05
SOURCE_DEM_DATE: 1970 00 00
AGENCY: WESTERN MAPPING CENTER (WMC)
PRODUCER: UNDEFINED
PRODUCTION_SYSTEM: GIS/MAGIC
COMPRESSION: UNDEFINED
STANDARD_VERSION: 1996 12
METADATA_DATE: 2000 06 14
DATA_FILE_SIZE: 42234500
BYTE_COUNT: 5500
