FILENAME: O4810856.NES.1116521.tif
QUADRANGLE_NAME: WEST ALKALI RESERVOIR
QUADRANT: NE
WEST_LONGITUDE: -108 3 45.00000
EAST_LONGITUDE: -108 0 0.00000
NORTH_LATITUDE: 48 15 0.00000
SOUTH_LATITUDE: 48 11 15.00000
PRODUCTION_DATE: 2000 10 27
RASTER_ORDER: LEFT_RIGHT/TOP_BOTTOM
BAND_ORGANIZATION: SINGLE FILE
BAND_CONTENT: BLACK&WHITE
BAND_CONTENT: UNDEFINED
BAND_CONTENT: UNDEFINED
BITS_PER_PIXEL: 8
SAMPLES_AND_LINES: 5564 7730
HORIZONTAL_DATUM: NAD83
HORIZONTAL_COORDINATE_SYSTEM: UTM
COORDINATE_ZONE: 12
HORIZONTAL_UNITS: METERS
HORIZONTAL_RESOLUTION: 1.00000
SECONDARY_HORIZONTAL_DATUM: NAD27
XY_ORIGIN: 717701.00000 5348739.00000
SECONDARY_XY_ORIGIN: 717758.48400 5348522.46700
NATION: US
NATION: "SCIENCE
STATE: MT
NW_QUAD_CORNER_XY: 718052.79100 5348259.24700
NE_QUAD_CORNER_XY: 722691.73900 5348438.73500
SE_QUAD_CORNERY_XY: 722963.18400 5341492.91500
SW_QUAD_CORNER_XY: 718318.57200 5341313.38400
SECONDARY_NW_QUAD_XY: 718059.68900 5348040.44600
SECONDARY_NE_QUAD_XY: 722698.78400 5348219.93900
SECONDARY_SE_QUAD_XY: 722970.22900 5341274.13200
SECONDARY_SW_QUAD_XY: 718325.47000 5341094.59500
RMSE_XY: 0.60000
IMAGE_SOURCE: BLACK AND WHITE FILM
SOURCE_IMAGE_ID: NAPP 9142 125
SOURCE_IMAGE_DATE: 1996 08 24
SOURCE_DEM_DATE: 1965 00 00
AGENCY: WESTERN MAPPING CENTER (WMC)
PRODUCER: UNDEFINED
PRODUCTION_SYSTEM: GIS/MAGIC
COMPRESSION: UNDEFINED
STANDARD_VERSION: 1996 12
METADATA_DATE: 2000 11 14
DATA_FILE_SIZE: 43015284
BYTE_COUNT: 5564
