FILENAME: O4810856.SWS.1116524.tif
QUADRANGLE_NAME: WEST ALKALI RESERVOIR
QUADRANT: SW
WEST_LONGITUDE: -108 7 30.00000
EAST_LONGITUDE: -108 3 45.00000
NORTH_LATITUDE: 48 11 15.00000
SOUTH_LATITUDE: 48 7 30.00000
PRODUCTION_DATE: 2000 10 26
RASTER_ORDER: LEFT_RIGHT/TOP_BOTTOM
BAND_ORGANIZATION: SINGLE FILE
BAND_CONTENT: BLACK&WHITE
BAND_CONTENT: UNDEFINED
BAND_CONTENT: UNDEFINED
BITS_PER_PIXEL: 8
SAMPLES_AND_LINES: 5564 7727
HORIZONTAL_DATUM: NAD83
HORIZONTAL_COORDINATE_SYSTEM: UTM
COORDINATE_ZONE: 12
HORIZONTAL_UNITS: METERS
HORIZONTAL_RESOLUTION: 1.00000
SECONDARY_HORIZONTAL_DATUM: NAD27
XY_ORIGIN: 713322.00000 5341614.00000
SECONDARY_XY_ORIGIN: 713379.56200 5341397.43400
NATION: US
NATION: "SCIENCE
STATE: MT
NW_QUAD_CORNER_XY: 713673.93200 5341137.63800
NE_QUAD_CORNER_XY: 718318.57200 5341313.38400
SE_QUAD_CORNERY_XY: 718584.09200 5334367.57700
SW_QUAD_CORNER_XY: 713933.79400 5334191.78900
SECONDARY_NW_QUAD_XY: 713680.68300 5340918.84300
SECONDARY_NE_QUAD_XY: 718325.47000 5341094.59500
SECONDARY_SE_QUAD_XY: 718590.99000 5334148.80000
SECONDARY_SW_QUAD_XY: 713940.54500 5333973.00600
RMSE_XY: 0.60000
IMAGE_SOURCE: BLACK AND WHITE FILM
SOURCE_IMAGE_ID: NAPP 9142 180
SOURCE_IMAGE_DATE: 1996 08 24
SOURCE_DEM_DATE: 1965 00 00
AGENCY: WESTERN MAPPING CENTER (WMC)
PRODUCER: UNDEFINED
PRODUCTION_SYSTEM: GIS/MAGIC
COMPRESSION: UNDEFINED
STANDARD_VERSION: 1996 12
METADATA_DATE: 2000 11 14
DATA_FILE_SIZE: 42998592
BYTE_COUNT: 5564
