FILENAME: O4810853.NWS.1114559.tif
QUADRANGLE_NAME: BIG FLAT WEST
QUADRANT: NW
WEST_LONGITUDE: -108 30 0.00000
EAST_LONGITUDE: -108 26 15.00000
NORTH_LATITUDE: 48 15 0.00000
SOUTH_LATITUDE: 48 11 15.00000
PRODUCTION_DATE: 2000 10 30
RASTER_ORDER: LEFT_RIGHT/TOP_BOTTOM
BAND_ORGANIZATION: SINGLE FILE
BAND_CONTENT: BLACK&WHITE
BAND_CONTENT: UNDEFINED
BAND_CONTENT: UNDEFINED
BITS_PER_PIXEL: 8
SAMPLES_AND_LINES: 5526 7704
HORIZONTAL_DATUM: NAD83
HORIZONTAL_COORDINATE_SYSTEM: UTM
COORDINATE_ZONE: 12
HORIZONTAL_UNITS: METERS
HORIZONTAL_RESOLUTION: 1.00000
SECONDARY_HORIZONTAL_DATUM: NAD27
XY_ORIGIN: 685226.00000 5347562.00000
SECONDARY_XY_ORIGIN: 685284.01000 5347345.29300
NATION: US
NATION: "SCIENCE
STATE: MT
NW_QUAD_CORNER_XY: 685579.36700 5347108.77500
NE_QUAD_CORNER_XY: 690218.50700 5347261.78000
SE_QUAD_CORNERY_XY: 690450.31900 5340315.67200
SW_QUAD_CORNER_XY: 685805.51800 5340162.63000
SECONDARY_NW_QUAD_XY: 685585.23800 5346889.93700
SECONDARY_NE_QUAD_XY: 690224.52500 5347042.94700
SECONDARY_SE_QUAD_XY: 690456.33600 5340096.85100
SECONDARY_SW_QUAD_XY: 685811.38900 5339943.80400
RMSE_XY: 0.90000
IMAGE_SOURCE: BLACK AND WHITE FILM
SOURCE_IMAGE_ID: NAPP 9144 130
SOURCE_IMAGE_DATE: 1996 08 25
SOURCE_DEM_DATE: 1970 00 00
AGENCY: WESTERN MAPPING CENTER (WMC)
PRODUCER: UNDEFINED
PRODUCTION_SYSTEM: GIS/MAGIC
COMPRESSION: UNDEFINED
STANDARD_VERSION: 1996 12
METADATA_DATE: 2000 11 14
DATA_FILE_SIZE: 42577830
BYTE_COUNT: 5526
