FILENAME: O4810852.SES.1112824.tif
QUADRANGLE_NAME: LODGE POLE NE
QUADRANT: SE
WEST_LONGITUDE: -108 33 45.00000
EAST_LONGITUDE: -108 30 0.00000
NORTH_LATITUDE: 48 11 15.00000
SOUTH_LATITUDE: 48 7 30.00000
PRODUCTION_DATE: 2000 10 30
RASTER_ORDER: LEFT_RIGHT/TOP_BOTTOM
BAND_ORGANIZATION: SINGLE FILE
BAND_CONTENT: BLACK&WHITE
BAND_CONTENT: UNDEFINED
BAND_CONTENT: UNDEFINED
BITS_PER_PIXEL: 8
SAMPLES_AND_LINES: 5526 7700
HORIZONTAL_DATUM: NAD83
HORIZONTAL_COORDINATE_SYSTEM: UTM
COORDINATE_ZONE: 12
HORIZONTAL_UNITS: METERS
HORIZONTAL_RESOLUTION: 1.00000
SECONDARY_HORIZONTAL_DATUM: NAD27
XY_ORIGIN: 680807.00000 5340463.00000
SECONDARY_XY_ORIGIN: 680865.13900 5340246.34300
NATION: US
NATION: "SCIENCE
STATE: MT
NW_QUAD_CORNER_XY: 681160.69300 5340013.37000
NE_QUAD_CORNER_XY: 685805.51800 5340162.63000
SE_QUAD_CORNERY_XY: 686031.44700 5333216.54600
SW_QUAD_CORNER_XY: 681380.96800 5333067.25000
SECONDARY_NW_QUAD_XY: 681166.41700 5339794.53900
SECONDARY_NE_QUAD_XY: 685811.38900 5339943.80400
SECONDARY_SE_QUAD_XY: 686037.31700 5332997.73300
SECONDARY_SW_QUAD_XY: 681386.69100 5332848.43200
RMSE_XY: 1.00000
IMAGE_SOURCE: BLACK AND WHITE FILM
SOURCE_IMAGE_ID: NAPP 9138 107
SOURCE_IMAGE_DATE: 1996 08 23
SOURCE_DEM_DATE: 1970 00 00
AGENCY: WESTERN MAPPING CENTER (WMC)
PRODUCER: UNDEFINED
PRODUCTION_SYSTEM: GIS/MAGIC
COMPRESSION: UNDEFINED
STANDARD_VERSION: 1996 12
METADATA_DATE: 2000 11 13
DATA_FILE_SIZE: 42555726
BYTE_COUNT: 5526
