FILENAME: O4810852.SWS.1112825.tif
QUADRANGLE_NAME: LODGE POLE NE
QUADRANT: SW
WEST_LONGITUDE: -108 37 30.00000
EAST_LONGITUDE: -108 33 45.00000
NORTH_LATITUDE: 48 11 15.00000
SOUTH_LATITUDE: 48 7 30.00000
PRODUCTION_DATE: 2000 10 30
RASTER_ORDER: LEFT_RIGHT/TOP_BOTTOM
BAND_ORGANIZATION: SINGLE FILE
BAND_CONTENT: BLACK&WHITE
BAND_CONTENT: UNDEFINED
BAND_CONTENT: UNDEFINED
BITS_PER_PIXEL: 8
SAMPLES_AND_LINES: 5520 7697
HORIZONTAL_DATUM: NAD83
HORIZONTAL_COORDINATE_SYSTEM: UTM
COORDINATE_ZONE: 12
HORIZONTAL_UNITS: METERS
HORIZONTAL_RESOLUTION: 1.00000
SECONDARY_HORIZONTAL_DATUM: NAD27
XY_ORIGIN: 676162.00000 5340314.00000
SECONDARY_XY_ORIGIN: 676220.21400 5340097.37600
NATION: US
NATION: "SCIENCE
STATE: MT
NW_QUAD_CORNER_XY: 676515.84500 5339867.89300
NE_QUAD_CORNER_XY: 681160.69300 5340013.37000
SE_QUAD_CORNERY_XY: 681380.96800 5333067.25000
SW_QUAD_CORNER_XY: 676730.46600 5332921.73800
SECONDARY_NW_QUAD_XY: 676521.42100 5339649.05700
SECONDARY_NE_QUAD_XY: 681166.41700 5339794.53900
SECONDARY_SE_QUAD_XY: 681386.69100 5332848.43200
SECONDARY_SW_QUAD_XY: 676736.04200 5332702.91600
RMSE_XY: 0.80000
IMAGE_SOURCE: BLACK AND WHITE FILM
SOURCE_IMAGE_ID: NAPP 9138 164
SOURCE_IMAGE_DATE: 1996 08 23
SOURCE_DEM_DATE: 1970 00 00
AGENCY: WESTERN MAPPING CENTER (WMC)
PRODUCER: UNDEFINED
PRODUCTION_SYSTEM: GIS/MAGIC
COMPRESSION: UNDEFINED
STANDARD_VERSION: 1996 12
METADATA_DATE: 2000 11 13
DATA_FILE_SIZE: 42492960
BYTE_COUNT: 5520
