FILENAME: O4810850.NES.1112754.tif
QUADRANGLE_NAME: LAKE SEVENTEEN NE
QUADRANT: NE
WEST_LONGITUDE: -108 48 45.00000
EAST_LONGITUDE: -108 45 0.00000
NORTH_LATITUDE: 48 15 0.00000
SOUTH_LATITUDE: 48 11 15.00000
PRODUCTION_DATE: 2000 10 27
RASTER_ORDER: LEFT_RIGHT/TOP_BOTTOM
BAND_ORGANIZATION: SINGLE FILE
BAND_CONTENT: BLACK&WHITE
BAND_CONTENT: UNDEFINED
BAND_CONTENT: UNDEFINED
BITS_PER_PIXEL: 8
SAMPLES_AND_LINES: 5499 7686
HORIZONTAL_DATUM: NAD83
HORIZONTAL_COORDINATE_SYSTEM: UTM
COORDINATE_ZONE: 12
HORIZONTAL_UNITS: METERS
HORIZONTAL_RESOLUTION: 1.00000
SECONDARY_HORIZONTAL_DATUM: NAD27
XY_ORIGIN: 662029.00000 5346835.00000
SECONDARY_XY_ORIGIN: 662087.29000 5346618.37300
NATION: US
NATION: "SCIENCE
STATE: MT
NW_QUAD_CORNER_XY: 662383.30400 5346400.47100
NE_QUAD_CORNER_XY: 667022.56200 5346534.57000
SE_QUAD_CORNERY_XY: 667226.07800 5339588.28400
SW_QUAD_CORNER_XY: 662581.16100 5339454.15300
SECONDARY_NW_QUAD_XY: 662388.44100 5346181.61100
SECONDARY_NE_QUAD_XY: 667027.84600 5346315.71400
SECONDARY_SE_QUAD_XY: 667231.36100 5339369.44000
SECONDARY_SW_QUAD_XY: 662586.29800 5339235.30500
RMSE_XY: 1.20000
IMAGE_SOURCE: BLACK AND WHITE FILM
SOURCE_IMAGE_ID: NAPP 9157 137
SOURCE_IMAGE_DATE: 1997 09 05
SOURCE_IMAGE_ID: NAPP 9157 139
SOURCE_IMAGE_DATE: 1997 09 05
SOURCE_DEM_DATE: 1970 00 00
AGENCY: WESTERN MAPPING CENTER (WMC)
PRODUCER: UNDEFINED
PRODUCTION_SYSTEM: GIS/MAGIC
COMPRESSION: UNDEFINED
STANDARD_VERSION: 1996 12
METADATA_DATE: 2000 11 13
DATA_FILE_SIZE: 42270813
BYTE_COUNT: 5499
