FILENAME: O4810849.SES.1115766.tif
QUADRANGLE_NAME: PUTNAM LAKE
QUADRANT: SE
WEST_LONGITUDE: -108 56 15.00000
EAST_LONGITUDE: -108 52 30.00000
NORTH_LATITUDE: 48 11 15.00000
SOUTH_LATITUDE: 48 7 30.00000
PRODUCTION_DATE: 2000 10 25
RASTER_ORDER: LEFT_RIGHT/TOP_BOTTOM
BAND_ORGANIZATION: SINGLE FILE
BAND_CONTENT: BLACK&WHITE
BAND_CONTENT: UNDEFINED
BAND_CONTENT: UNDEFINED
BITS_PER_PIXEL: 8
SAMPLES_AND_LINES: 5494 7678
HORIZONTAL_DATUM: NAD83
HORIZONTAL_COORDINATE_SYSTEM: UTM
COORDINATE_ZONE: 12
HORIZONTAL_UNITS: METERS
HORIZONTAL_RESOLUTION: 1.00000
SECONDARY_HORIZONTAL_DATUM: NAD27
XY_ORIGIN: 652936.00000 5339624.00000
SECONDARY_XY_ORIGIN: 652994.40400 5339407.49800
NATION: US
NATION: "SCIENCE
STATE: MT
NW_QUAD_CORNER_XY: 653291.26500 5339197.23400
NE_QUAD_CORNER_XY: 657936.22300 5339323.80300
SE_QUAD_CORNERY_XY: 658128.23400 5332377.51800
SW_QUAD_CORNER_XY: 653477.62400 5332250.91900
SECONDARY_NW_QUAD_XY: 653296.10800 5338978.37700
SECONDARY_NE_QUAD_XY: 657941.21300 5339104.95000
SECONDARY_SE_QUAD_XY: 658133.22400 5332158.67900
SECONDARY_SW_QUAD_XY: 653482.46700 5332032.07500
RMSE_XY: 1.30000
IMAGE_SOURCE: BLACK AND WHITE FILM
SOURCE_IMAGE_ID: NAPP 9147 137
SOURCE_IMAGE_DATE: 1996 08 24
SOURCE_DEM_DATE: 1970 00 00
AGENCY: WESTERN MAPPING CENTER (WMC)
PRODUCER: UNDEFINED
PRODUCTION_SYSTEM: GIS/MAGIC
COMPRESSION: UNDEFINED
STANDARD_VERSION: 1996 12
METADATA_DATE: 2000 11 10
DATA_FILE_SIZE: 42188426
BYTE_COUNT: 5494
