FILENAME: O4810848.SWS.1116540.tif
QUADRANGLE_NAME: WAGNER
QUADRANT: SW
WEST_LONGITUDE: -108 7 30.00000
EAST_LONGITUDE: -108 3 45.00000
NORTH_LATITUDE: 48 18 45.00000
SOUTH_LATITUDE: 48 15 0.00000
PRODUCTION_DATE: 2000 10 26
RASTER_ORDER: LEFT_RIGHT/TOP_BOTTOM
BAND_ORGANIZATION: SINGLE FILE
BAND_CONTENT: BLACK&WHITE
BAND_CONTENT: UNDEFINED
BAND_CONTENT: UNDEFINED
BITS_PER_PIXEL: 8
SAMPLES_AND_LINES: 5553 7727
HORIZONTAL_DATUM: NAD83
HORIZONTAL_COORDINATE_SYSTEM: UTM
COORDINATE_ZONE: 12
HORIZONTAL_UNITS: METERS
HORIZONTAL_RESOLUTION: 1.00000
SECONDARY_HORIZONTAL_DATUM: NAD27
XY_ORIGIN: 712801.00000 5355506.00000
SECONDARY_XY_ORIGIN: 712858.41500 5355289.36500
NATION: US
NATION: "SCIENCE
STATE: MT
NW_QUAD_CORNER_XY: 713153.43900 5355029.50800
NE_QUAD_CORNER_XY: 717786.74800 5355205.16700
SE_QUAD_CORNERY_XY: 718052.79100 5348259.24700
SW_QUAD_CORNER_XY: 713413.81300 5348083.54400
SECONDARY_NW_QUAD_XY: 713160.19200 5354810.69000
SECONDARY_NE_QUAD_XY: 717793.64700 5354986.35500
SECONDARY_SE_QUAD_XY: 718059.68900 5348040.44600
SECONDARY_SW_QUAD_XY: 713420.56500 5347864.73800
RMSE_XY: 0.80000
IMAGE_SOURCE: BLACK AND WHITE FILM
SOURCE_IMAGE_ID: NAPP 9142 176
SOURCE_IMAGE_DATE: 1996 08 24
SOURCE_DEM_DATE: 1965 00 00
AGENCY: WESTERN MAPPING CENTER (WMC)
PRODUCER: UNDEFINED
PRODUCTION_SYSTEM: GIS/MAGIC
COMPRESSION: UNDEFINED
STANDARD_VERSION: 1996 12
METADATA_DATE: 2000 11 14
DATA_FILE_SIZE: 42913584
BYTE_COUNT: 5553
