FILENAME: O4810847.NES.1116471.tif
QUADRANGLE_NAME: COW CREEK
QUADRANT: NE
WEST_LONGITUDE: -108 11 15.00000
EAST_LONGITUDE: -108 7 30.00000
NORTH_LATITUDE: 48 22 30.00000
SOUTH_LATITUDE: 48 18 45.00000
PRODUCTION_DATE: 2000 10 26
RASTER_ORDER: LEFT_RIGHT/TOP_BOTTOM
BAND_ORGANIZATION: SINGLE FILE
BAND_CONTENT: BLACK&WHITE
BAND_CONTENT: UNDEFINED
BAND_CONTENT: UNDEFINED
BITS_PER_PIXEL: 8
SAMPLES_AND_LINES: 5542 7723
HORIZONTAL_DATUM: NAD83
HORIZONTAL_COORDINATE_SYSTEM: UTM
COORDINATE_ZONE: 12
HORIZONTAL_UNITS: METERS
HORIZONTAL_RESOLUTION: 1.00000
SECONDARY_HORIZONTAL_DATUM: NAD27
XY_ORIGIN: 707913.00000 5362276.00000
SECONDARY_XY_ORIGIN: 707970.37200 5362059.27000
NATION: US
NATION: "SCIENCE
STATE: MT
NW_QUAD_CORNER_XY: 708265.14600 5361803.69500
NE_QUAD_CORNER_XY: 712892.81000 5361975.52800
SE_QUAD_CORNERY_XY: 713153.43900 5355029.50800
SW_QUAD_CORNER_XY: 708520.10100 5354857.63200
SECONDARY_NW_QUAD_XY: 708271.75100 5361584.86200
SECONDARY_NE_QUAD_XY: 712899.56300 5361756.70000
SECONDARY_SE_QUAD_XY: 713160.19200 5354810.69000
SECONDARY_SW_QUAD_XY: 708526.70700 5354638.80800
RMSE_XY: 1.70000
IMAGE_SOURCE: BLACK AND WHITE FILM
SOURCE_IMAGE_ID: NAPP 9143 113
SOURCE_IMAGE_DATE: 1996 08 24
SOURCE_DEM_DATE: 1963 00 00
AGENCY: WESTERN MAPPING CENTER (WMC)
PRODUCER: UNDEFINED
PRODUCTION_SYSTEM: GIS/MAGIC
COMPRESSION: UNDEFINED
STANDARD_VERSION: 1996 12
METADATA_DATE: 2000 11 14
DATA_FILE_SIZE: 42806408
BYTE_COUNT: 5542
