FILENAME: O4810844.NES.1112818.tif
QUADRANGLE_NAME: BIGBY LAKE
QUADRANT: NE
WEST_LONGITUDE: -108 33 45.00000
EAST_LONGITUDE: -108 30 0.00000
NORTH_LATITUDE: 48 22 30.00000
SOUTH_LATITUDE: 48 18 45.00000
PRODUCTION_DATE: 2000 11 13
RASTER_ORDER: LEFT_RIGHT/TOP_BOTTOM
BAND_ORGANIZATION: SINGLE FILE
BAND_CONTENT: BLACK&WHITE
BAND_CONTENT: UNDEFINED
BAND_CONTENT: UNDEFINED
BITS_PER_PIXEL: 8
SAMPLES_AND_LINES: 5509 7701
HORIZONTAL_DATUM: NAD83
HORIZONTAL_COORDINATE_SYSTEM: UTM
COORDINATE_ZONE: 12
HORIZONTAL_UNITS: METERS
HORIZONTAL_RESOLUTION: 1.00000
SECONDARY_HORIZONTAL_DATUM: NAD27
XY_ORIGIN: 680145.00000 5361302.00000
SECONDARY_XY_ORIGIN: 680202.87900 5361085.17500
NATION: US
NATION: "SCIENCE
STATE: MT
NW_QUAD_CORNER_XY: 680498.56900 5360852.10100
NE_QUAD_CORNER_XY: 685126.39800 5361001.25000
SE_QUAD_CORNERY_XY: 685352.99400 5354054.98100
SW_QUAD_CORNER_XY: 680719.49300 5353905.79500
SECONDARY_NW_QUAD_XY: 680504.29300 5360633.23800
SECONDARY_NE_QUAD_XY: 685132.27000 5360782.39100
SECONDARY_SE_QUAD_XY: 685358.86500 5353836.13300
SECONDARY_SW_QUAD_XY: 680725.21800 5353686.94200
RMSE_XY: 0.70000
IMAGE_SOURCE: BLACK AND WHITE FILM
SOURCE_IMAGE_ID: NAPP 9138 113
SOURCE_IMAGE_DATE: 1996 08 23
SOURCE_DEM_DATE: 1970 00 00
AGENCY: WESTERN MAPPING CENTER (WMC)
PRODUCER: UNDEFINED
PRODUCTION_SYSTEM: GIS/MAGIC
COMPRESSION: UNDEFINED
STANDARD_VERSION: 1996 12
METADATA_DATE: 2000 11 13
DATA_FILE_SIZE: 42430318
BYTE_COUNT: 5509
