FILENAME: O4810844.NWS.1112819.tif
QUADRANGLE_NAME: BIGBY LAKE
QUADRANT: NW
WEST_LONGITUDE: -108 37 30.00000
EAST_LONGITUDE: -108 33 45.00000
NORTH_LATITUDE: 48 22 30.00000
SOUTH_LATITUDE: 48 18 45.00000
PRODUCTION_DATE: 2000 10 26
RASTER_ORDER: LEFT_RIGHT/TOP_BOTTOM
BAND_ORGANIZATION: SINGLE FILE
BAND_CONTENT: BLACK&WHITE
BAND_CONTENT: UNDEFINED
BAND_CONTENT: UNDEFINED
BITS_PER_PIXEL: 8
SAMPLES_AND_LINES: 5504 7697
HORIZONTAL_DATUM: NAD83
HORIZONTAL_COORDINATE_SYSTEM: UTM
COORDINATE_ZONE: 12
HORIZONTAL_UNITS: METERS
HORIZONTAL_RESOLUTION: 1.00000
SECONDARY_HORIZONTAL_DATUM: NAD27
XY_ORIGIN: 675517.00000 5361153.00000
SECONDARY_XY_ORIGIN: 675574.94600 5360936.17600
NATION: US
NATION: "SCIENCE
STATE: MT
NW_QUAD_CORNER_XY: 675870.71400 5360706.73300
NE_QUAD_CORNER_XY: 680498.56900 5360852.10100
SE_QUAD_CORNERY_XY: 680719.49300 5353905.79500
SW_QUAD_CORNER_XY: 676085.96800 5353760.39000
SECONDARY_NW_QUAD_XY: 675876.29200 5360487.86500
SECONDARY_NE_QUAD_XY: 680504.29300 5360633.23800
SECONDARY_SE_QUAD_XY: 680725.21800 5353686.94200
SECONDARY_SW_QUAD_XY: 676091.54600 5353541.53200
RMSE_XY: 0.80000
IMAGE_SOURCE: BLACK AND WHITE FILM
SOURCE_IMAGE_ID: NAPP 9138 158
SOURCE_IMAGE_DATE: 1996 08 23
SOURCE_DEM_DATE: 1970 00 00
AGENCY: WESTERN MAPPING CENTER (WMC)
PRODUCER: UNDEFINED
PRODUCTION_SYSTEM: GIS/MAGIC
COMPRESSION: UNDEFINED
STANDARD_VERSION: 1996 12
METADATA_DATE: 2000 11 13
DATA_FILE_SIZE: 42369792
BYTE_COUNT: 5504
