FILENAME: O4810844.SES.1112820.tif
QUADRANGLE_NAME: BIGBY LAKE
QUADRANT: SE
WEST_LONGITUDE: -108 33 45.00000
EAST_LONGITUDE: -108 30 0.00000
NORTH_LATITUDE: 48 18 45.00000
SOUTH_LATITUDE: 48 15 0.00000
PRODUCTION_DATE: 2000 10 26
RASTER_ORDER: LEFT_RIGHT/TOP_BOTTOM
BAND_ORGANIZATION: SINGLE FILE
BAND_CONTENT: BLACK&WHITE
BAND_CONTENT: UNDEFINED
BAND_CONTENT: UNDEFINED
BITS_PER_PIXEL: 8
SAMPLES_AND_LINES: 5515 7700
HORIZONTAL_DATUM: NAD83
HORIZONTAL_COORDINATE_SYSTEM: UTM
COORDINATE_ZONE: 12
HORIZONTAL_UNITS: METERS
HORIZONTAL_RESOLUTION: 1.00000
SECONDARY_HORIZONTAL_DATUM: NAD27
XY_ORIGIN: 680366.00000 5354355.00000
SECONDARY_XY_ORIGIN: 680423.97500 5354138.24300
NATION: US
NATION: "SCIENCE
STATE: MT
NW_QUAD_CORNER_XY: 680719.49300 5353905.79500
NE_QUAD_CORNER_XY: 685352.99400 5354054.98100
SE_QUAD_CORNERY_XY: 685579.36700 5347108.77500
SW_QUAD_CORNER_XY: 680940.20200 5346959.55200
SECONDARY_NW_QUAD_XY: 680725.21800 5353686.94200
SECONDARY_NE_QUAD_XY: 685358.86500 5353836.13300
SECONDARY_SE_QUAD_XY: 685585.23800 5346889.93700
SECONDARY_SW_QUAD_XY: 680945.92600 5346740.70900
RMSE_XY: 0.80000
IMAGE_SOURCE: BLACK AND WHITE FILM
SOURCE_IMAGE_ID: NAPP 9138 111
SOURCE_IMAGE_DATE: 1996 08 23
SOURCE_DEM_DATE: 1970 00 00
AGENCY: WESTERN MAPPING CENTER (WMC)
PRODUCER: UNDEFINED
PRODUCTION_SYSTEM: GIS/MAGIC
COMPRESSION: UNDEFINED
STANDARD_VERSION: 1996 12
METADATA_DATE: 2000 11 13
DATA_FILE_SIZE: 42471015
BYTE_COUNT: 5515
