FILENAME: O4810843.NWS.1112775.tif
QUADRANGLE_NAME: WILD HORSE BUTTE
QUADRANT: NW
WEST_LONGITUDE: -108 45 0.00000
EAST_LONGITUDE: -108 41 15.00000
NORTH_LATITUDE: 48 22 30.00000
SOUTH_LATITUDE: 48 18 45.00000
PRODUCTION_DATE: 2000 10 26
RASTER_ORDER: LEFT_RIGHT/TOP_BOTTOM
BAND_ORGANIZATION: SINGLE FILE
BAND_CONTENT: BLACK&WHITE
BAND_CONTENT: UNDEFINED
BAND_CONTENT: UNDEFINED
BITS_PER_PIXEL: 8
SAMPLES_AND_LINES: 5493 7690
HORIZONTAL_DATUM: NAD83
HORIZONTAL_COORDINATE_SYSTEM: UTM
COORDINATE_ZONE: 12
HORIZONTAL_UNITS: METERS
HORIZONTAL_RESOLUTION: 1.00000
SECONDARY_HORIZONTAL_DATUM: NAD27
XY_ORIGIN: 666261.00000 5360866.00000
SECONDARY_XY_ORIGIN: 666319.07900 5360649.17800
NATION: US
NATION: "SCIENCE
STATE: MT
NW_QUAD_CORNER_XY: 666614.93100 5360427.33400
NE_QUAD_CORNER_XY: 671242.83500 5360565.14400
SE_QUAD_CORNERY_XY: 671452.41900 5353618.76500
SW_QUAD_CORNER_XY: 666818.84700 5353480.92000
SECONDARY_NW_QUAD_XY: 666620.21600 5360208.45700
SECONDARY_NE_QUAD_XY: 671248.26600 5360346.27100
SECONDARY_SE_QUAD_XY: 671457.85000 5353399.90200
SECONDARY_SW_QUAD_XY: 666824.13100 5353262.05300
RMSE_XY: 0.90000
IMAGE_SOURCE: BLACK AND WHITE FILM
SOURCE_IMAGE_ID: NAPP 9144 242
SOURCE_IMAGE_DATE: 1996 08 25
SOURCE_DEM_DATE: 1970 00 00
AGENCY: WESTERN MAPPING CENTER (WMC)
PRODUCER: UNDEFINED
PRODUCTION_SYSTEM: GIS/MAGIC
COMPRESSION: UNDEFINED
STANDARD_VERSION: 1996 12
METADATA_DATE: 2000 11 30
DATA_FILE_SIZE: 42246663
BYTE_COUNT: 5493
