FILENAME: O4810842.SES.1112752.tif
QUADRANGLE_NAME: FORT BELKNAP
AGENCY SE
QUADRANT: SE
WEST_LONGITUDE: -108 48 45.00000
EAST_LONGITUDE: -108 45 0.00000
NORTH_LATITUDE: 48 18 45.00000
SOUTH_LATITUDE: 48 15 0.00000
PRODUCTION_DATE: 2000 10 26
RASTER_ORDER: LEFT_RIGHT/TOP_BOTTOM
BAND_ORGANIZATION: SINGLE FILE
BAND_CONTENT: BLACK&WHITE
BAND_CONTENT: UNDEFINED
BAND_CONTENT: UNDEFINED
BITS_PER_PIXEL: 8
SAMPLES_AND_LINES: 5493 7685
HORIZONTAL_DATUM: NAD83
HORIZONTAL_COORDINATE_SYSTEM: UTM
COORDINATE_ZONE: 12
HORIZONTAL_UNITS: METERS
HORIZONTAL_RESOLUTION: 1.00000
SECONDARY_HORIZONTAL_DATUM: NAD27
XY_ORIGIN: 661831.00000 5353781.00000
SECONDARY_XY_ORIGIN: 661889.19000 5353564.26300
NATION: US
NATION: "SCIENCE
STATE: MT
NW_QUAD_CORNER_XY: 662185.25200 5353346.85400
NE_QUAD_CORNER_XY: 666818.84700 5353480.92000
SE_QUAD_CORNERY_XY: 667022.56200 5346534.57000
SW_QUAD_CORNER_XY: 662383.30400 5346400.47100
SECONDARY_NW_QUAD_XY: 662190.38900 5353127.98300
SECONDARY_NE_QUAD_XY: 666824.13100 5353262.05300
SECONDARY_SE_QUAD_XY: 667027.84600 5346315.71400
SECONDARY_SW_QUAD_XY: 662388.44100 5346181.61100
RMSE_XY: 0.60000
IMAGE_SOURCE: BLACK AND WHITE FILM
SOURCE_IMAGE_ID: NAPP 9157 135
SOURCE_IMAGE_DATE: 1997 09 05
SOURCE_DEM_DATE: 1970 00 00
AGENCY: WESTERN MAPPING CENTER (WMC)
PRODUCER: UNDEFINED
PRODUCTION_SYSTEM: GIS/MAGIC
COMPRESSION: UNDEFINED
STANDARD_VERSION: 1996 12
METADATA_DATE: 2000 11 13
DATA_FILE_SIZE: 42219198
BYTE_COUNT: 5493
