FILENAME: O4810841.NES.1115760.tif
QUADRANGLE_NAME: NEWHOUSE RESERVOIR
QUADRANT: NE
WEST_LONGITUDE: -108 56 15.00000
EAST_LONGITUDE: -108 52 30.00000
NORTH_LATITUDE: 48 22 30.00000
SOUTH_LATITUDE: 48 18 45.00000
PRODUCTION_DATE: 2000 10 26
RASTER_ORDER: LEFT_RIGHT/TOP_BOTTOM
BAND_ORGANIZATION: SINGLE FILE
BAND_CONTENT: BLACK&WHITE
BAND_CONTENT: UNDEFINED
BAND_CONTENT: UNDEFINED
BITS_PER_PIXEL: 8
SAMPLES_AND_LINES: 5477 7679
HORIZONTAL_DATUM: NAD83
HORIZONTAL_COORDINATE_SYSTEM: UTM
COORDINATE_ZONE: 12
HORIZONTAL_UNITS: METERS
HORIZONTAL_RESOLUTION: 1.00000
SECONDARY_HORIZONTAL_DATUM: NAD27
XY_ORIGIN: 652376.00000 5360464.00000
SECONDARY_XY_ORIGIN: 652434.12400 5360247.11200
NATION: US
NATION: "SCIENCE
STATE: MT
NW_QUAD_CORNER_XY: 652731.08500 5360036.57500
NE_QUAD_CORNER_XY: 657359.05600 5360163.04900
SE_QUAD_CORNERY_XY: 657551.63400 5353216.56800
SW_QUAD_CORNER_XY: 652917.99500 5353090.06200
SECONDARY_NW_QUAD_XY: 652735.92900 5359817.68600
SECONDARY_NE_QUAD_XY: 657364.04700 5359944.16400
SECONDARY_SE_QUAD_XY: 657556.62500 5352997.69300
SECONDARY_SW_QUAD_XY: 652922.83900 5352871.18300
RMSE_XY: 1.40000
IMAGE_SOURCE: BLACK AND WHITE FILM
SOURCE_IMAGE_ID: NAPP 9147 143
SOURCE_IMAGE_DATE: 1996 08 24
SOURCE_DEM_DATE: 1970 00 00
AGENCY: WESTERN MAPPING CENTER (WMC)
PRODUCER: UNDEFINED
PRODUCTION_SYSTEM: GIS/MAGIC
COMPRESSION: UNDEFINED
STANDARD_VERSION: 1996 12
METADATA_DATE: 2000 11 10
DATA_FILE_SIZE: 42063360
BYTE_COUNT: 5477
