FILENAME: O4810841.NWS.1115761.tif
QUADRANGLE_NAME: NEWHOUSE RESERVOIR
QUADRANT: NW
WEST_LONGITUDE: -109 0 0.00000
EAST_LONGITUDE: -108 56 15.00000
NORTH_LATITUDE: 48 22 30.00000
SOUTH_LATITUDE: 48 18 45.00000
PRODUCTION_DATE: 2000 11 10
RASTER_ORDER: LEFT_RIGHT/TOP_BOTTOM
BAND_ORGANIZATION: SINGLE FILE
BAND_CONTENT: BLACK&WHITE
BAND_CONTENT: UNDEFINED
BAND_CONTENT: UNDEFINED
BITS_PER_PIXEL: 8
SAMPLES_AND_LINES: 5471 7674
HORIZONTAL_DATUM: NAD83
HORIZONTAL_COORDINATE_SYSTEM: UTM
COORDINATE_ZONE: 12
HORIZONTAL_UNITS: METERS
HORIZONTAL_RESOLUTION: 1.00000
SECONDARY_HORIZONTAL_DATUM: NAD27
XY_ORIGIN: 647748.00000 5360337.00000
SECONDARY_XY_ORIGIN: 647806.14000 5360120.08900
NATION: US
NATION: "SCIENCE
STATE: MT
NW_QUAD_CORNER_XY: 648103.09300 5359913.87800
NE_QUAD_CORNER_XY: 652731.08500 5360036.57500
SE_QUAD_CORNERY_XY: 652917.99500 5353090.06200
SW_QUAD_CORNER_XY: 648284.33500 5352967.33400
SECONDARY_NW_QUAD_XY: 648107.79000 5359694.98500
SECONDARY_NE_QUAD_XY: 652735.92900 5359817.68600
SECONDARY_SE_QUAD_XY: 652922.83900 5352871.18300
SECONDARY_SW_QUAD_XY: 648289.03200 5352748.45100
RMSE_XY: 1.50000
IMAGE_SOURCE: BLACK AND WHITE FILM
SOURCE_IMAGE_ID: NAPP 9147 188
SOURCE_IMAGE_DATE: 1996 08 24
SOURCE_IMAGE_ID: NAPP 9129 016
SOURCE_IMAGE_DATE: 1996 07 27
SOURCE_DEM_DATE: 1970 00 00
AGENCY: WESTERN MAPPING CENTER (WMC)
PRODUCER: UNDEFINED
PRODUCTION_SYSTEM: GIS/MAGIC
COMPRESSION: UNDEFINED
STANDARD_VERSION: 1996 12
METADATA_DATE: 2000 11 10
DATA_FILE_SIZE: 41989925
BYTE_COUNT: 5471
